{"text_format":"3","workbook":"xlsx","n_sheets":7,"sheets":["１．基本情報シート","２．ｱｾｽﾒﾝﾄｼｰﾄ","３．課題整理総括表","１．(A4版)基本情報ｼｰﾄ（印刷用）","２．(A4版)ｱｾｽﾒﾝﾄｼｰﾄ（印刷用）","医療連携ｼｰﾄ","プルダウン・素材用（入力不要）"],"not_rendered":{"images":16,"external_links":1,"defined_names":89,"comments":4},"read":"whole","date_system":"1900"}

{"sheet":"１．基本情報シート","index":0,"n_rows":71,"n_cols":61,"rows_kept":71,"merged":[[1,13,1,34],[2,13,2,34],[3,13,3,34],[4,13,4,34],[7,13,7,34],[8,21,8,41],[8,54,8,60],[10,7,10,8],[10,9,10,15],[10,16,10,17],[10,20,10,21],[10,22,10,29],[10,32,12,34],[10,35,10,37],[10,38,10,42],[10,43,10,45],[10,46,10,52],[10,53,10,60],[11,35,12,37],[11,38,12,42],[11,43,12,45],[11,46,12,49],[11,50,12,50],[11,51,12,54],[11,55,12,60],[12,1,12,3],[12,4,12,13],[12,14,12,16],[12,17,12,20],[12,21,12,22],[12,23,12,24],[12,26,12,28],[13,1,13,3],[13,4,13,7],[13,8,13,9],[13,10,13,11],[13,13,13,19],[13,21,13,22],[13,23,13,29],[13,32,13,37],[13,38,13,41],[13,42,13,48],[13,49,13,52],[13,53,13,54],[13,55,13,60],[14,1,14,4],[14,5,14,9],[14,11,14,19],[14,21,14,22],[14,23,14,24],[14,26,14,28],[14,32,31,32],[14,33,15,36],[14,37,15,42],[14,43,15,48],[14,49,15,54],[14,55,15,60],[16,1,22,1],[16,2,16,4],[16,5,16,14],[16,15,16,29],[16,33,16,36],[16,37,16,42],[16,43,16,48],[16,49,16,54],[16,55,16,60],[17,2,19,4],[17,5,17,12],[17,13,19,14],[17,15,19,16],[17,17,19,18],[17,19,19,26],[17,27,19,27],[17,28,19,28],[17,29,19,29],[17,33,17,36],[17,37,17,38],[17,40,17,41],[17,43,17,44],[17,46,17,47],[17,49,17,50],[17,52,17,53],[17,55,17,56],[17,58,17,59],[18,5,19,11],[18,12,19,12],[18,33,20,34],[18,35,18,36],[18,37,18,42],[18,43,18,48],[18,49,18,54],[18,55,18,60],[19,35,20,36],[19,37,19,42],[19,43,19,48],[19,49,19,54],[19,55,19,60],[20,2,22,4],[20,6,20,9],[20,10,20,20],[20,21,20,22],[20,23,20,29],[20,37,20,39],[20,43,20,45],[20,49,20,51],[20,55,20,57],[21,5,22,20],[21,21,21,22],[21,23,21,29],[21,33,22,36],[21,37,22,42],[21,43,22,48],[21,49,22,54],[21,55,22,60],[22,21,22,22],[22,23,22,29],[23,1,40,1],[23,2,23,4],[23,5,23,17],[23,18,40,18],[23,19,23,20],[23,21,23,23],[23,25,23,28],[23,33,23,36],[23,37,23,42],[23,43,23,48],[23,49,23,54],[23,55,23,60],[24,2,27,17],[24,19,40,29],[24,33,24,36],[24,37,24,42],[24,43,24,48],[24,49,24,54],[24,55,24,60],[25,33,31,33],[25,34,25,60],[26,34,31,60],[28,2,28,9],[28,10,28,12],[28,13,28,17],[29,2,34,2],[29,3,34,12],[29,13,40,17],[32,32,49,32],[32,33,32,35],[32,36,32,40],[32,42,32,44],[32,46,32,60],[33,33,33,35],[33,36,33,37],[33,38,33,40],[33,41,33,42],[33,43,33,45],[33,46,49,60],[34,33,36,33],[34,34,34,35],[34,36,34,37],[34,39,34,40],[34,42,34,43],[34,44,34,45],[34,63,61,82],[35,2,40,2],[35,3,40,12],[35,34,35,35],[35,36,35,37],[35,38,35,39],[35,40,35,41],[35,42,35,43],[35,44,35,45],[36,34,36,35],[36,36,36,45],[37,33,38,33],[37,34,37,35],[37,36,37,37],[37,38,37,39],[37,40,37,41],[37,42,37,43],[37,44,37,45],[38,34,38,35],[38,36,38,45],[39,33,40,33],[39,34,39,35],[39,36,39,37],[39,38,39,39],[39,40,39,41],[39,42,39,43],[39,44,39,45],[40,34,40,35],[40,36,40,37],[40,38,40,39],[40,40,40,45],[41,1,50,1],[41,2,41,3],[41,4,41,8],[41,9,41,10],[41,11,41,12],[41,13,41,20],[41,21,41,29],[41,33,49,33],[41,34,49,45],[42,2,44,3],[42,4,44,8],[42,9,44,10],[42,11,44,12],[42,13,44,20],[42,21,42,22],[42,23,42,29],[43,21,43,22],[43,23,43,29],[44,21,44,22],[44,23,44,29],[45,2,47,3],[45,4,47,8],[45,9,47,10],[45,11,47,12],[45,13,47,20],[45,21,45,22],[45,23,45,29],[46,21,46,22],[46,23,46,29],[47,21,47,22],[47,23,47,29],[48,2,50,3],[48,4,50,8],[48,9,50,10],[48,11,50,12],[48,13,50,20],[48,21,48,22],[48,23,48,29],[49,21,49,22],[49,23,49,29],[50,21,50,22],[50,23,50,29],[50,32,50,34],[50,35,50,36],[50,38,50,44],[50,46,50,48],[50,49,50,50],[50,52,50,59],[51,1,53,3],[51,4,51,8],[51,9,51,12],[51,13,51,22],[51,23,51,29],[51,32,58,32],[51,33,51,36],[51,37,51,39],[51,41,51,44],[51,46,51,48],[51,49,51,50],[51,52,51,54],[51,56,51,58],[51,59,51,60],[52,4,53,8],[52,9,53,12],[52,13,53,22],[52,23,53,29],[52,33,52,36],[52,37,52,39],[52,40,52,43],[52,44,52,46],[52,47,52,50],[52,51,52,53],[52,54,52,57],[52,58,52,60],[53,33,53,36],[53,37,53,39],[53,40,53,43],[53,44,53,46],[53,47,53,50],[53,51,53,53],[53,54,53,57],[53,58,53,60],[54,1,61,1],[54,2,54,3],[54,4,54,17],[54,18,54,21],[54,24,54,29],[54,33,58,33],[54,34,58,60],[55,2,61,17],[55,18,59,29],[59,32,69,32],[59,33,59,42],[59,43,59,45],[59,46,59,53],[59,54,59,60],[60,18,60,21],[60,22,60,29],[60,33,64,33],[60,34,60,42],[60,44,60,45],[60,46,60,53],[60,54,60,60],[61,18,61,21],[61,22,61,29],[61,34,61,42],[61,44,61,45],[61,46,61,53],[61,54,61,60],[62,1,71,1],[62,2,62,4],[62,5,62,17],[62,18,62,29],[62,34,62,42],[62,44,62,45],[62,46,62,53],[62,54,62,60],[63,2,71,17],[63,18,63,21],[63,22,63,25],[63,26,63,29],[63,34,63,42],[63,44,63,45],[63,46,63,53],[63,54,63,60],[64,18,64,21],[64,22,64,25],[64,26,64,29],[64,34,64,42],[64,44,64,45],[64,46,64,53],[64,54,64,60],[65,18,65,21],[65,22,65,25],[65,26,65,29],[65,33,69,33],[65,34,65,42],[65,44,65,45],[65,46,65,53],[65,54,65,60],[66,18,66,21],[66,22,66,25],[66,26,66,29],[66,34,66,42],[66,44,66,45],[66,46,66,53],[66,54,66,60],[67,18,67,21],[67,22,67,25],[67,26,67,29],[67,34,67,42],[67,44,67,45],[67,46,67,53],[67,54,67,60],[68,18,68,21],[68,22,68,25],[68,26,68,29],[68,34,68,42],[68,44,68,45],[68,46,68,53],[68,54,68,60],[69,18,69,21],[69,22,69,25],[69,26,69,29],[69,34,69,42],[69,44,69,45],[69,46,69,53],[69,54,69,60],[70,18,70,21],[70,22,70,25],[70,26,70,29],[70,32,71,41],[70,42,71,43],[70,44,71,60],[71,18,71,21],[71,22,71,25],[71,26,71,29],[73,15,85,31]]}
[]
[{"$nulls":13},"【※１】 画面の拡大・縮小は、右下のパーセンテージで操作できます。"]
[{"$nulls":13},"【※２】薄黄色の項目は、プルダウン式になっています。"]
[{"$nulls":13},"【※３】黄色の項目は課題整理総括表へリンクします。"]
[{"$nulls":13},"【※４】薄緑色の項目はアセスメントチェックシートへリンクします。"]
[]
[]
[{"$nulls":13},"【※５】↓印刷範囲・入力項目などは、この下からです。↓"]
[{"$nulls":21},"基本情報シート",{"$nulls":32},"（沖縄県 共通アセスメント様式 Ver 2.0）"]
[]
[{"$nulls":7},"作成日",{"$nulls":8},"現在",{"$nulls":3},"作成者",{"$nulls":11},"認定情報",null,null,"認定区分",{"$nulls":7},"認定年月日"]
[{"$nulls":35},"区分支給限度額",null,null,{"$f":"IF(AM11=\"\",\"―\",VLOOKUP(AM11,'プルダウン・素材用（入力不要）'!$L$5:$M$13,2,FALSE))","v":"―"},{"$nulls":4},"認定期間",{"$nulls":6},"～"]
[null,"受付日",{"$nulls":12},"受付対応者",{"$nulls":6},"受付方法",{"$nulls":3},"（",{"$nulls":3},"）"]
[null,"相談者氏名",{"$nulls":6},"続柄",{"$nulls":3},"（",{"$nulls":7},"）","連絡先",{"$nulls":10},"障害高齢者の日常生活自立度",{"$nulls":9},"認知症高齢者の日常生活自立度",{"$nulls":10},"診察日(判定日）"]
[null,"アセスメント理由",{"$nulls":8},"（",{"$nulls":9},"）","実施場所",{"$nulls":3},"（",{"$nulls":3},"）",null,null,"現在の受診状況","病名"]
[]
[null,"利用者情報","被保険者番号",{"$nulls":30},"発症年月日"]
[null,null,"ふりがな\n氏　名",{"$nulls":10},"性別",{"$nulls":3},"生年月日",{"$nulls":9},"（　",{"$f":"DATEDIF(T18,J11,\"y\")","v":0},"歳）",{"$nulls":3},"薬の有無",{"$nulls":5},"（",null,null,"）",null,null,"（",null,null,"）",null,null,"（",null,null,"）",null,null,"（",null,null,"）"]
[{"$nulls":12},"様",{"$nulls":20},"受診",null,"状況"]
[{"$nulls":35},"頻度"]
[null,null,"住　所",null,null,"〒",{"$nulls":15},"Tel/Fax",{"$nulls":15},"（定期の場合⇒",{"$nulls":4},"回）","（定期の場合⇒",{"$nulls":4},"回）","（定期の場合⇒",{"$nulls":4},"回）","（定期の場合⇒",{"$nulls":4},"回）"]
[{"$nulls":21},"携帯",{"$nulls":11},"医療機関"]
[{"$nulls":21},"E-mail"]
[null,"利用者・家族の望む生活","相談の経緯",{"$nulls":15},"家族状況（ジェノグラム）","世帯",{"$nulls":4},"（",{"$nulls":4},"）",{"$nulls":3},"主治医"]
[{"$nulls":33},"連絡先"]
[{"$nulls":33},"特記・備考","（症状、痛み、生活上配慮すべき課題など）"]
[]
[]
[null,null,"利用者及び家族の生活に対する意向",{"$nulls":10},"家族関係等で特記すべき事項"]
[null,null,"（利用者）"]
[]
[]
[{"$nulls":32},"住居の状況","住居",{"$nulls":7},"（",{"$nulls":3},"）","〔間取図〕"]
[{"$nulls":33},"所有形態",{"$nulls":4},"エレベーター"]
[{"$nulls":33},"居室","専用居室",{"$nulls":3},"（",null,null,"畳）","段差"]
[null,null,"（家族）",{"$nulls":31},"手すり",{"$nulls":3},"寝具",{"$nulls":3},"冷暖房"]
[{"$nulls":34},"他"]
[{"$nulls":33},"トイレ","便器",{"$nulls":3},"段差",{"$nulls":3},"手すり"]
[{"$nulls":34},"他"]
[{"$nulls":33},"浴室","浴槽",{"$nulls":3},"段差",{"$nulls":3},"手すり"]
[{"$nulls":34},"シャワー",{"$nulls":3},"他"]
[null,"家族情報","介護者",null,"氏　名",{"$nulls":4},"続柄",null,"同居・別居",null,"住所",{"$nulls":7},"連絡先",{"$nulls":11},"特記事項"]
[{"$nulls":21},"Tel/Fax"]
[{"$nulls":21},"※携帯"]
[{"$nulls":21},"E-mail"]
[{"$nulls":21},"Tel/Fax"]
[{"$nulls":21},"※携帯"]
[{"$nulls":21},"E-mail"]
[{"$nulls":21},"Tel/Fax"]
[{"$nulls":21},"携帯"]
[{"$nulls":21},"E-mail",{"$nulls":10},"住宅改修",{"$nulls":4},"（",{"$nulls":7},"）","福祉用具購入",{"$nulls":4},"（",{"$nulls":8},"）"]
[null,"緊急搬送先\n（主治医）",null,null,"医療機関名",{"$nulls":4},"主治医名",{"$nulls":3},"住所",{"$nulls":9},"連絡先",{"$nulls":8},"制度利用状況","年金種別",{"$nulls":6},"（",{"$nulls":4},"）","指定難病",{"$nulls":4},"（",{"$nulls":3},"）","療育手帳"]
[{"$nulls":33},"介護保険負担割合",{"$nulls":6},"生活保護",{"$nulls":6},"障害福祉サービス等",{"$nulls":6},"身体障害者手帳"]
[{"$nulls":33},"介護保険限度額認定証",{"$nulls":6},"医療保険負担割合",{"$nulls":6},"日常生活自立支援事業",{"$nulls":6},"成年後見制度"]
[null,"今までの生活","生活歴",null,"（これまでの職歴、家庭生活、習慣など）",{"$nulls":13},"趣味・好きなこと",{"$nulls":14},"特記"]
[]
[]
[]
[]
[{"$nulls":32},"利用しているサービス","サービス内容",{"$nulls":9},"頻度",null,null,"事業所・ボランティア団体等",{"$nulls":7},"特記　（ＴＥＬ・ＦＡＸ等）"]
[{"$nulls":18},"日中の活動性",{"$nulls":14},"フォーマル"]
[{"$nulls":18},"外出の頻度"]
[null,"現在の生活状況","１日の過ごし方",{"$nulls":15},"（起床・食事・日中の過ごし方・入浴・就寝など）"]
[{"$nulls":18},"時間",{"$nulls":3},"本人",{"$nulls":3},"介護者・家族"]
[]
[{"$nulls":33},"インフォーマル"]
[]
[]
[]
[]
[{"$nulls":32},"終末期における本人・家族の意向確認\nACP・リビングウイル 等"]

{"sheet":"２．ｱｾｽﾒﾝﾄｼｰﾄ","index":1,"n_rows":83,"n_cols":76,"rows_kept":83,"merged":[[1,20,1,47],[2,20,2,47],[3,20,3,47],[4,20,4,47],[7,20,7,41],[8,59,8,88],[9,0,10,12],[9,13,10,24],[9,29,9,43],[9,59,9,70],[9,71,9,88],[10,28,10,34],[10,36,10,42],[10,45,10,48],[10,49,10,57],[10,59,10,70],[10,71,10,88],[12,0,14,9],[12,10,12,12],[12,13,12,25],[12,27,12,34],[12,36,14,43],[12,44,12,45],[12,46,12,61],[12,62,12,64],[12,65,12,88],[13,10,13,12],[13,13,13,25],[13,27,13,34],[13,44,13,45],[13,46,13,61],[13,62,13,64],[13,65,13,88],[14,10,14,12],[14,13,14,25],[14,27,14,34],[14,44,14,45],[14,46,14,61],[14,62,14,64],[14,65,14,88],[19,0,20,5],[19,6,20,10],[19,11,19,53],[19,54,19,73],[19,75,20,88],[20,11,20,17],[20,18,20,23],[20,24,20,33],[20,34,20,53],[20,54,20,63],[20,64,20,73],[21,0,36,5],[21,6,21,10],[21,11,21,12],[21,13,21,17],[21,18,21,23],[21,24,21,33],[21,34,21,53],[21,54,28,63],[21,64,28,73],[21,75,30,88],[22,6,22,10],[22,11,22,12],[22,13,22,17],[22,18,22,23],[22,24,22,25],[22,26,22,27],[22,28,22,33],[22,34,22,53],[23,6,23,10],[23,11,23,12],[23,13,23,17],[23,18,23,23],[23,24,23,33],[23,34,23,53],[24,6,24,10],[24,11,24,12],[24,13,24,17],[24,18,24,23],[24,24,24,33],[24,34,24,53],[25,6,25,10],[25,11,25,12],[25,13,25,17],[25,18,25,23],[25,24,25,33],[25,34,25,53],[26,6,26,10],[26,11,26,12],[26,13,26,17],[26,18,26,21],[26,22,26,23],[26,25,26,26],[26,27,26,28],[26,29,26,30],[26,32,26,33],[26,34,26,36],[26,37,26,38],[26,39,26,53],[27,6,27,10],[27,11,27,12],[27,13,27,17],[27,18,27,23],[27,24,27,33],[27,34,27,53],[28,6,28,10],[28,11,28,12],[28,13,28,17],[28,18,28,23],[28,24,28,33],[28,34,28,53],[29,6,29,10],[29,11,29,12],[29,13,29,17],[29,18,29,23],[29,24,29,33],[29,34,29,53],[29,54,36,63],[29,64,36,73],[30,6,30,10],[30,11,30,12],[30,13,30,17],[30,18,30,23],[30,24,30,33],[30,34,30,53],[31,6,31,10],[31,11,31,12],[31,13,31,17],[31,18,31,23],[31,24,31,33],[31,34,31,53],[31,75,40,88],[32,6,32,10],[32,11,32,12],[32,13,32,17],[32,18,32,23],[32,24,32,33],[32,34,32,53],[33,6,33,10],[33,11,34,12],[33,13,34,17],[33,18,33,23],[33,24,33,33],[33,34,33,53],[34,6,34,10],[34,19,34,20],[34,21,34,23],[34,27,34,28],[34,30,34,31],[34,33,34,35],[34,37,34,39],[34,41,34,43],[34,45,34,47],[34,49,34,52],[35,6,35,10],[35,11,36,12],[35,13,36,17],[35,18,35,23],[35,24,35,53],[36,6,36,10],[36,19,36,20],[36,21,36,23],[36,25,36,26],[36,28,36,30],[36,32,36,34],[36,36,36,38],[36,40,36,42],[36,48,36,53],[37,0,63,5],[37,6,37,10],[37,11,37,12],[37,13,37,17],[37,18,37,23],[37,24,37,33],[37,34,37,53],[37,54,45,63],[37,64,45,73],[38,6,38,10],[38,11,38,12],[38,13,38,17],[38,18,38,23],[38,24,38,33],[38,34,38,53],[39,6,39,10],[39,11,39,12],[39,13,39,17],[39,18,39,23],[39,24,39,33],[39,34,39,53],[40,6,40,10],[40,11,40,12],[40,13,40,17],[40,18,40,23],[40,24,40,33],[40,34,40,53],[41,6,41,10],[41,11,41,12],[41,13,41,17],[41,18,41,23],[41,24,41,33],[41,34,41,53],[41,75,50,88],[42,6,42,10],[42,11,42,12],[42,13,42,17],[42,18,42,23],[42,24,42,27],[42,28,42,30],[42,31,42,34],[42,35,42,53],[43,6,43,10],[43,11,43,12],[43,13,43,17],[43,18,43,23],[43,24,43,33],[43,34,43,53],[44,6,44,10],[44,11,44,12],[44,13,44,17],[44,18,44,23],[44,24,44,33],[44,34,44,53],[45,6,45,10],[45,11,45,12],[45,13,45,17],[45,18,45,23],[45,24,45,33],[45,34,45,53],[46,6,46,10],[46,11,46,12],[46,13,46,17],[46,18,46,23],[46,24,46,25],[46,26,46,29],[46,30,46,33],[46,34,46,53],[46,54,54,63],[46,64,54,73],[47,6,47,10],[47,11,47,12],[47,13,47,17],[47,18,47,23],[47,24,47,33],[47,34,47,53],[48,6,48,10],[48,11,48,12],[48,13,48,17],[48,18,48,23],[48,24,48,33],[48,34,48,53],[49,6,49,10],[49,11,49,12],[49,13,49,17],[49,18,49,23],[49,24,49,33],[49,34,49,53],[50,6,50,10],[50,11,50,12],[50,13,50,17],[50,18,50,23],[50,24,50,33],[50,34,50,53],[51,6,51,10],[51,11,51,12],[51,13,51,17],[51,18,51,23],[51,24,51,33],[51,34,51,53],[51,75,59,88],[52,6,52,10],[52,11,52,12],[52,13,52,17],[52,18,52,23],[52,24,52,33],[52,34,52,53],[53,6,53,10],[53,11,53,12],[53,13,53,17],[53,18,53,23],[53,24,53,33],[53,34,53,53],[54,6,54,10],[54,11,54,12],[54,13,54,17],[54,18,54,23],[54,24,54,33],[54,34,54,53],[55,6,55,10],[55,11,55,12],[55,13,55,17],[55,18,55,23],[55,24,55,33],[55,34,55,53],[55,54,63,63],[55,64,63,73],[56,6,56,10],[56,11,56,12],[56,13,56,17],[56,18,56,23],[56,24,56,33],[56,34,56,53],[57,6,57,10],[57,11,57,12],[57,13,57,17],[57,18,57,23],[57,24,57,33],[57,34,57,53],[58,6,58,10],[58,11,58,12],[58,13,58,17],[58,18,58,23],[58,24,58,33],[58,34,58,53],[59,6,59,10],[59,11,59,12],[59,13,59,17],[59,18,59,23],[59,24,59,33],[59,34,59,53],[60,6,60,10],[60,11,60,12],[60,13,60,17],[60,18,60,23],[60,24,60,33],[60,34,60,53],[60,75,67,88],[61,6,61,10],[61,11,61,12],[61,13,61,17],[61,18,61,23],[61,24,61,33],[61,34,61,53],[62,6,62,10],[62,11,62,12],[62,13,62,17],[62,18,62,23],[62,24,62,33],[62,34,62,53],[63,6,63,10],[63,11,63,12],[63,13,63,17],[63,18,63,23],[63,24,63,33],[63,34,63,53],[64,0,67,5],[64,6,64,10],[64,11,64,12],[64,13,64,17],[64,18,64,23],[64,24,64,33],[64,34,64,53],[64,54,67,63],[64,64,67,73],[65,6,65,10],[65,11,65,12],[65,13,65,17],[65,18,65,23],[65,24,65,33],[65,34,65,53],[66,6,66,10],[66,11,66,12],[66,13,66,17],[66,18,66,23],[66,24,66,33],[66,34,66,53],[67,6,67,10],[67,11,67,12],[67,13,67,17],[67,18,67,23],[67,24,67,33],[67,34,67,53],[68,0,72,5],[68,6,68,10],[68,11,68,12],[68,13,68,17],[68,18,68,23],[68,24,68,33],[68,34,68,53],[68,54,72,63],[68,64,72,73],[68,75,75,88],[69,6,69,10],[69,11,69,12],[69,13,69,17],[69,18,69,23],[69,24,69,33],[69,34,69,53],[70,6,70,10],[70,11,70,12],[70,13,70,17],[70,18,70,23],[70,24,70,33],[70,34,70,53],[71,6,71,10],[71,11,71,12],[71,13,71,17],[71,18,71,23],[71,24,71,33],[71,34,71,53],[72,6,72,10],[72,11,72,12],[72,13,72,17],[72,18,72,23],[72,24,72,33],[72,34,72,53],[73,0,75,5],[73,6,73,10],[73,11,73,12],[73,13,73,14],[73,15,73,19],[73,20,73,21],[73,22,73,24],[73,26,73,29],[73,31,73,35],[73,37,73,39],[73,41,73,43],[73,45,73,52],[73,54,75,63],[73,64,75,73],[74,6,75,10],[74,11,75,12],[74,13,75,53],[76,0,76,88],[77,0,77,5],[77,6,77,39],[77,40,77,88],[78,0,82,5],[78,6,78,8],[78,9,78,26],[78,27,82,27],[78,29,78,39],[78,40,78,41],[78,42,78,55],[78,56,78,58],[78,59,78,88],[79,6,79,8],[79,9,79,26],[79,29,79,39],[79,40,79,41],[79,42,79,55],[79,56,79,58],[79,59,79,88],[80,6,80,8],[80,9,80,26],[80,29,80,39],[80,40,80,41],[80,42,80,55],[80,56,80,58],[80,59,80,88],[81,6,81,8],[81,9,81,26],[81,29,81,39],[81,40,81,41],[81,42,81,55],[81,56,81,58],[81,59,81,88],[82,6,82,8],[82,9,82,26],[82,29,82,39],[82,40,82,41],[82,42,82,55],[82,56,82,58],[82,59,82,88],[83,8,83,37],[84,8,84,37],[85,8,85,37],[86,8,86,37],[87,8,87,37]]}
[]
[{"$nulls":20},"【※１】 画面の拡大・縮小は、右下のパーセンテージで操作できます。"]
[{"$nulls":20},"【※２】薄黄色の項目は、プルダウン式になっています。"]
[{"$nulls":20},"【※３】黄色の項目は課題整理総括表へリンクします。"]
[{"$nulls":20},"【※４】灰色のセルは記載不要（基本情報とリンクしています。）"]
[]
[]
[{"$nulls":20},"【※５】↓印刷範囲・入力項目などは、この下からです。↓"]
[{"$nulls":59},"（沖縄県 共通アセスメント様式 Ver 2.0）"]
["氏　名",{"$nulls":12},{"$f":"IF('１．基本情報シート'!$F$19=\"\", \"\", '１．基本情報シート'!$F$19)","v":""},{"$nulls":15},"　　アセスメントシート",{"$nulls":29},"アセスメント実施日",{"$nulls":11},{"$f":"'１．基本情報シート'!J11","v":"00:00:00"}]
[{"$nulls":25},"様",null,"(",{"$f":"'１．基本情報シート'!F15","v":0},{"$nulls":6},":",{"$f":"'１．基本情報シート'!L15","v":0},{"$nulls":6},")",null,"作成者",{"$nulls":3},{"$f":"'１．基本情報シート'!W11","v":0},{"$nulls":9},"ケアプラン作成年月日(同意日)"]
[]
["A\n健康状態",{"$nulls":9},"1.",null,null,{"$f":"'１．基本情報シート'!AL15","v":0},{"$nulls":12},"4.",{"$f":"'１．基本情報シート'!BD15","v":0},{"$nulls":8},"根本的な原因・課題\n自立した日常生活の阻害要因\n（心身の状態、環境等）\n※課題整理総括表にリンク",{"$nulls":7},1,{"$nulls":17},4]
[{"$nulls":10},"2.",null,null,{"$f":"'１．基本情報シート'!AR15","v":0},{"$nulls":12},"5.",{"$nulls":17},2,{"$nulls":17},5]
[{"$nulls":10},"3.",null,null,{"$f":"'１．基本情報シート'!AX15","v":0},{"$nulls":12},"6.",{"$nulls":17},3,{"$nulls":17},6]
[]
[]
[]
[]
[{"$nulls":6},"原 因",{"$nulls":4},"状況の事実（状態）",{"$nulls":42},"課題・ストレングス",{"$nulls":20},"見通し"]
[{"$nulls":11},"項目",{"$nulls":6},"現在",{"$nulls":5},"備 考",{"$nulls":9},"できること・できそうなこと",{"$nulls":19},"課 題",{"$nulls":9},"ストレングス"]
["B心身機能・身体構造",{"$nulls":10},"1.",null,"視 力"]
[{"$nulls":11},"2.",null,"聴 力",{"$nulls":10},"(補聴器)"]
[{"$nulls":11},"3.",null,"口腔衛生"]
[{"$nulls":11},"4.",null,"排尿・排便"]
[{"$nulls":11},"5.",null,"栄養状態"]
[{"$nulls":11},"6.",null,"身 長",{"$nulls":8},"ｃｍ",null,"7.","体 重",{"$nulls":3},"ｋｇ",null,"8.","BMI",null,{"$f":"IFERROR(AB27/((S27/100))^2,\"\")","v":""},null,null,"kg/m2"]
[{"$nulls":11},"7",null,"アレルギー"]
[{"$nulls":11},"8",null,"麻痺"]
[{"$nulls":11},"9",null,"拘縮"]
[{"$nulls":11},"10",null,"痛み・痺れ"]
[{"$nulls":11},"11",null,"褥瘡・皮膚の問題"]
[{"$nulls":11},"12",null,"認 知"]
[{"$nulls":11},"13",null,"行動障害\n（BPSD)"]
[{"$nulls":18},"(",null,null,"暴言",{"$nulls":3},"暴行",null,"徘徊",null,null,"多動",null,null,"昼夜逆転",{"$nulls":3},"不潔行為",{"$nulls":3},"介護抵抗",{"$nulls":3},"夜間不穏",{"$nulls":3},"異食行為",{"$nulls":3},")"]
[{"$nulls":11},"14",null,"精神症状"]
[{"$nulls":18},"(",null,null,"妄想",{"$nulls":3},"幻覚",null,null,"せん妄",{"$nulls":3},"依存",{"$nulls":3},"見当識",{"$nulls":3},"無関心",{"$nulls":6},")"]
["C活 動",{"$nulls":10},"1.",null,"移動（室内）"]
[{"$nulls":11},"2.",null,"移動（屋外）"]
[{"$nulls":11},"3.",null,"食事内容"]
[{"$nulls":11},"4.",null,"食事摂取（動作）"]
[{"$nulls":11},"5.",null,"食事摂取（問題）"]
[{"$nulls":11},"6.",null,"食事形態",{"$nulls":4},"（主食）",{"$nulls":9},"（副食）"]
[{"$nulls":11},"7.",null,"食事摂取量"]
[{"$nulls":11},"8.",null,"水分摂取"]
[{"$nulls":11},"9.",null,"排泄動作"]
[{"$nulls":11},"10.",null,"口腔ケア",{"$nulls":10},"(義歯)"]
[{"$nulls":11},"11.",null,"入 浴"]
[{"$nulls":11},"12.",null,"更 衣"]
[{"$nulls":11},"13.",null,"整 容"]
[{"$nulls":11},"14.",null,"寝 返 り"]
[{"$nulls":11},"15.",null,"起き上がり"]
[{"$nulls":11},"16.",null,"移 乗"]
[{"$nulls":11},"17.",null,"服 薬"]
[{"$nulls":11},"18.",null,"調 理\n(献立・片付含む)"]
[{"$nulls":11},"19.",null,"掃 除\n(ゴミ出し含む)"]
[{"$nulls":11},"20.",null,"洗 濯"]
[{"$nulls":11},"21.",null,"買 物"]
[{"$nulls":11},"22.",null,"整理・物品の管理"]
[{"$nulls":11},"23.",null,"金銭管理"]
[{"$nulls":11},"24.",null,"コミュニケーション能力"]
[{"$nulls":11},"25.",null,"意思伝達"]
[{"$nulls":11},"26.",null,"意思決定"]
[{"$nulls":11},"27.",null,"指示反応"]
["D参 加",{"$nulls":10},"1.",null,"社会との関わり"]
[{"$nulls":11},"2.",null,"家庭での役割"]
[{"$nulls":11},"3.",null,"地域での役割"]
[{"$nulls":11},"4.",null,"施設での役割"]
["Eその他",{"$nulls":10},"1.",null,"居住環境"]
[{"$nulls":11},"2.",null,"介 護 力"]
[{"$nulls":11},"3.",null,"家族支援の必要性"]
[{"$nulls":11},"4."]
[{"$nulls":11},"5."]
["F特別な状況",{"$nulls":10},"1.",{"$nulls":3},"日中独居",{"$nulls":6},"虐待",{"$nulls":3},"ターミナル",{"$nulls":4},"成年後見",{"$nulls":5},"医療",{"$nulls":3},"その他",null,null,"（",{"$nulls":8},"）"]
[{"$nulls":11},"2.",null,"-"]
[]
[]
["因子",{"$nulls":5},"　G　環境因子",{"$nulls":33},"H 個人因子"]
["a\n促\n進\n因\n子",{"$nulls":5},"1.",{"$nulls":20},"ｂ\n阻\n害\n因\n子","1.",{"$nulls":11},"1.",{"$nulls":15},"1."]
[{"$nulls":6},"2.",{"$nulls":21},"2.",{"$nulls":11},"2.",{"$nulls":15},"2."]
[{"$nulls":6},"3.",{"$nulls":21},"3.",{"$nulls":11},"3.",{"$nulls":15},"3."]
[{"$nulls":6},"4.",{"$nulls":21},"4.",{"$nulls":11},"4.",{"$nulls":15},"4."]
[{"$nulls":6},"5.",{"$nulls":21},"5.",{"$nulls":11},"5.",{"$nulls":15},"5."]

{"sheet":"３．課題整理総括表","index":2,"n_rows":42,"n_cols":160,"rows_kept":42,"merged":[[0,1,1,10],[0,11,1,30],[0,31,1,34],[0,59,1,104],[0,106,1,112],[0,113,1,131],[0,132,1,135],[0,138,1,144],[0,145,1,162],[3,106,8,111],[3,112,5,113],[3,114,5,162],[5,1,8,20],[5,21,6,23],[5,24,6,48],[5,49,6,51],[5,52,6,76],[5,77,6,79],[5,80,6,104],[6,112,8,113],[6,114,8,162],[7,21,8,23],[7,24,8,48],[7,49,8,51],[7,52,8,76],[7,77,8,79],[7,80,8,104],[9,1,11,20],[9,21,9,104],[10,21,11,30],[10,31,11,40],[10,41,11,66],[10,67,11,96],[10,97,11,104],[10,106,11,132],[10,133,11,158],[10,159,11,162],[12,1,13,6],[12,7,12,20],[12,21,12,30],[12,31,12,40],[12,41,12,66],[12,67,12,96],[12,97,12,104],[12,106,16,132],[12,133,16,158],[12,159,16,162],[13,7,13,20],[13,21,13,30],[13,31,13,40],[13,41,13,66],[13,67,13,96],[13,97,13,104],[14,1,16,6],[14,7,14,20],[14,21,14,30],[14,31,14,40],[14,41,14,66],[14,67,14,96],[14,97,14,104],[15,7,15,20],[15,21,15,30],[15,31,15,40],[15,41,15,66],[15,67,15,96],[15,97,15,104],[16,7,16,20],[16,21,16,30],[16,31,16,40],[16,41,16,66],[16,67,16,96],[16,97,16,104],[17,1,18,6],[17,7,17,20],[17,21,17,30],[17,31,17,40],[17,41,17,66],[17,67,17,96],[17,97,17,104],[17,106,21,132],[17,133,21,158],[17,159,21,162],[18,7,18,20],[18,21,18,30],[18,31,18,40],[18,41,18,66],[18,67,18,96],[18,97,18,104],[19,1,20,6],[19,7,19,20],[19,21,19,30],[19,31,19,40],[19,41,19,66],[19,67,19,96],[19,97,19,104],[20,7,20,20],[20,21,20,30],[20,31,20,40],[20,41,20,66],[20,67,20,96],[20,97,20,104],[21,1,21,20],[21,21,21,30],[21,31,21,40],[21,41,21,66],[21,67,21,96],[21,97,21,104],[22,1,22,20],[22,21,22,30],[22,31,22,40],[22,41,22,66],[22,67,22,96],[22,97,22,104],[22,106,26,132],[22,133,26,158],[22,159,26,162],[23,1,23,20],[23,21,23,30],[23,31,23,40],[23,41,23,66],[23,67,23,96],[23,97,23,104],[24,1,24,20],[24,21,24,30],[24,31,24,40],[24,41,24,66],[24,67,24,96],[24,97,24,104],[25,1,25,20],[25,21,25,30],[25,31,25,40],[25,41,25,66],[25,67,25,96],[25,97,25,104],[26,1,26,20],[26,21,26,30],[26,31,26,40],[26,41,26,66],[26,67,26,96],[26,97,26,104],[27,1,27,20],[27,21,27,30],[27,31,27,40],[27,41,27,66],[27,67,27,96],[27,97,27,104],[27,106,31,132],[27,133,31,158],[27,159,31,162],[28,1,28,20],[28,21,28,30],[28,31,28,40],[28,41,28,66],[28,67,28,96],[28,97,28,104],[29,1,29,20],[29,21,29,30],[29,31,29,40],[29,41,29,66],[29,67,29,96],[29,97,29,104],[30,1,30,20],[30,21,30,30],[30,31,30,40],[30,41,30,66],[30,67,30,96],[30,97,30,104],[31,1,31,20],[31,21,31,30],[31,31,31,40],[31,41,31,66],[31,67,31,96],[31,97,31,104],[32,1,32,20],[32,21,32,30],[32,31,32,40],[32,41,32,66],[32,67,32,96],[32,97,32,104],[32,106,35,132],[32,133,35,158],[32,159,35,162],[33,1,33,20],[33,21,33,30],[33,31,33,40],[33,41,33,66],[33,67,33,96],[33,97,33,104],[34,1,34,20],[34,21,34,30],[34,31,34,40],[34,41,34,66],[34,67,34,96],[34,97,34,104],[35,1,35,20],[35,21,35,30],[35,31,35,40],[35,41,35,66],[35,67,35,96],[35,97,35,104],[36,1,36,20],[36,21,36,30],[36,31,36,40],[36,41,36,66],[36,67,36,96],[36,97,36,104],[36,106,39,132],[36,133,39,158],[36,159,39,162],[37,1,37,20],[37,21,37,30],[37,31,37,40],[37,41,37,66],[37,67,37,96],[37,97,37,104],[38,1,38,20],[38,21,38,30],[38,31,38,40],[38,41,38,66],[38,67,38,96],[38,97,38,104],[39,1,39,20],[39,21,39,30],[39,31,39,40],[39,41,39,66],[39,67,39,96],[39,97,39,104],[41,1,43,104],[41,105,43,162]]}
[null,"利用者氏名",{"$nulls":9},{"$f":"IF('１．基本情報シート'!$F$19=\"\", \"\", '１．基本情報シート'!$F$19)","v":""},{"$nulls":19},"様",{"$nulls":27},"課題整理総括表",{"$nulls":46},"作成日",{"$nulls":6},{"$f":"'１．基本情報シート'!J11","v":"00:00:00"},{"$nulls":18},"現在",{"$nulls":5},"作成者",{"$nulls":6},{"$f":"'１．基本情報シート'!W11","v":0}]
[]
[{"$nulls":71},300530]
[{"$nulls":106},"利用者及び家族の\n生活に対する意向",{"$nulls":5},"利用者",null,{"$f":"IF('１．基本情報シート'!D30=\"\",\"\",'１．基本情報シート'!D30)","v":""}]
[]
[null,"自立した日常生活の阻害要因\n（心身の状態、環境等）",{"$nulls":19},1,null,null,{"$f":"IF('２．ｱｾｽﾒﾝﾄｼｰﾄ'!AU13=\"\",\"\",'２．ｱｾｽﾒﾝﾄｼｰﾄ'!AU13)","v":""},{"$nulls":24},2,null,null,{"$f":"IF('２．ｱｾｽﾒﾝﾄｼｰﾄ'!AU14=\"\",\"\",'２．ｱｾｽﾒﾝﾄｼｰﾄ'!AU14)","v":""},{"$nulls":24},3,null,null,{"$f":"IF('２．ｱｾｽﾒﾝﾄｼｰﾄ'!AU15=\"\",\"\",'２．ｱｾｽﾒﾝﾄｼｰﾄ'!AU15)","v":""}]
[{"$nulls":112},"家族",null,{"$f":"IF('１．基本情報シート'!D36=\"\",\"\",'１．基本情報シート'!D36)","v":""}]
[{"$nulls":21},4,null,null,{"$f":"IF('２．ｱｾｽﾒﾝﾄｼｰﾄ'!BN13=\"\",\"\",'２．ｱｾｽﾒﾝﾄｼｰﾄ'!BN13)","v":""},{"$nulls":24},5,null,null,{"$f":"IF('２．ｱｾｽﾒﾝﾄｼｰﾄ'!BN14=\"\",\"\",'２．ｱｾｽﾒﾝﾄｼｰﾄ'!BN14)","v":""},{"$nulls":24},6,null,null,{"$f":"IF('２．ｱｾｽﾒﾝﾄｼｰﾄ'!BN15=\"\",\"\",'２．ｱｾｽﾒﾝﾄｼｰﾄ'!BN15)","v":""}]
[]
[null,"状況の事実　※１"]
[{"$nulls":21},"現在 ※２",{"$nulls":9},"要因 ※３",{"$nulls":9},"備考\n（状況・支援内容等）",{"$nulls":25},"できること・できそうなこと",{"$nulls":29},"改善/維持の\n可能性※４",{"$nulls":8},"見通し　※５",{"$nulls":26},"生活全般の解決すべき課題（ニーズ）\n【案】",{"$nulls":25},"※６"]
[]
[null,"移動",{"$nulls":5},"室内移動",{"$nulls":13},{"$f":" IF('２．ｱｾｽﾒﾝﾄｼｰﾄ'!S38=\"\", \"\",'２．ｱｾｽﾒﾝﾄｼｰﾄ'!S38)","v":""},{"$nulls":9},{"$f":" IF('２．ｱｾｽﾒﾝﾄｼｰﾄ'!G38=\"\", \"\",'２．ｱｾｽﾒﾝﾄｼｰﾄ'!G38)","v":""},{"$nulls":9},{"$f":" IF('２．ｱｾｽﾒﾝﾄｼｰﾄ'!Y38=\"\", \"\",'２．ｱｾｽﾒﾝﾄｼｰﾄ'!Y38)","v":""},{"$nulls":25},{"$f":" IF('２．ｱｾｽﾒﾝﾄｼｰﾄ'!AI38=\"\", \"\",'２．ｱｾｽﾒﾝﾄｼｰﾄ'!AI38)","v":""},{"$nulls":29},"維持 →",{"$nulls":8},{"$f":"'２．ｱｾｽﾒﾝﾄｼｰﾄ'!BX22","v":0},{"$nulls":52},1]
[{"$nulls":7},"屋外移動",{"$nulls":13},{"$f":" IF('２．ｱｾｽﾒﾝﾄｼｰﾄ'!S39=\"\", \"\",'２．ｱｾｽﾒﾝﾄｼｰﾄ'!S39)","v":""},{"$nulls":9},{"$f":" IF('２．ｱｾｽﾒﾝﾄｼｰﾄ'!G39=\"\", \"\",'２．ｱｾｽﾒﾝﾄｼｰﾄ'!G39)","v":""},{"$nulls":9},{"$f":" IF('２．ｱｾｽﾒﾝﾄｼｰﾄ'!Y39=\"\", \"\",'２．ｱｾｽﾒﾝﾄｼｰﾄ'!Y39)","v":""},{"$nulls":25},{"$f":" IF('２．ｱｾｽﾒﾝﾄｼｰﾄ'!AI39=\"\", \"\",'２．ｱｾｽﾒﾝﾄｼｰﾄ'!AI39)","v":""},{"$nulls":29},"維持 →"]
[null,"食事",{"$nulls":5},"食事内容",{"$nulls":13},{"$f":" IF('２．ｱｾｽﾒﾝﾄｼｰﾄ'!S40=\"\", \"\",'２．ｱｾｽﾒﾝﾄｼｰﾄ'!S40)","v":""},{"$nulls":9},{"$f":" IF('２．ｱｾｽﾒﾝﾄｼｰﾄ'!G40=\"\", \"\",'２．ｱｾｽﾒﾝﾄｼｰﾄ'!G40)","v":""},{"$nulls":9},{"$f":" IF('２．ｱｾｽﾒﾝﾄｼｰﾄ'!Y40=\"\", \"\",'２．ｱｾｽﾒﾝﾄｼｰﾄ'!Y40)","v":""},{"$nulls":25},{"$f":" IF('２．ｱｾｽﾒﾝﾄｼｰﾄ'!AI40=\"\", \"\",'２．ｱｾｽﾒﾝﾄｼｰﾄ'!AI40)","v":""},{"$nulls":29},"維持 →"]
[{"$nulls":7},"食事摂取",{"$nulls":13},{"$f":" IF('２．ｱｾｽﾒﾝﾄｼｰﾄ'!S41=\"\", \"\",'２．ｱｾｽﾒﾝﾄｼｰﾄ'!S41)","v":""},{"$nulls":9},{"$f":" IF('２．ｱｾｽﾒﾝﾄｼｰﾄ'!G41=\"\", \"\",'２．ｱｾｽﾒﾝﾄｼｰﾄ'!G41)","v":""},{"$nulls":9},{"$f":" IF('２．ｱｾｽﾒﾝﾄｼｰﾄ'!Y41=\"\", \"\",'２．ｱｾｽﾒﾝﾄｼｰﾄ'!Y41)","v":""},{"$nulls":25},{"$f":" IF('２．ｱｾｽﾒﾝﾄｼｰﾄ'!AI41=\"\", \"\",'２．ｱｾｽﾒﾝﾄｼｰﾄ'!AI41)","v":""},{"$nulls":29},"維持 →"]
[{"$nulls":7},"調理",{"$nulls":13},{"$f":" IF('２．ｱｾｽﾒﾝﾄｼｰﾄ'!S55=\"\", \"\",'２．ｱｾｽﾒﾝﾄｼｰﾄ'!S55)","v":""},{"$nulls":9},{"$f":" IF('２．ｱｾｽﾒﾝﾄｼｰﾄ'!G55=\"\", \"\",'２．ｱｾｽﾒﾝﾄｼｰﾄ'!G55)","v":""},{"$nulls":9},{"$f":" IF('２．ｱｾｽﾒﾝﾄｼｰﾄ'!Y55=\"\", \"\",'２．ｱｾｽﾒﾝﾄｼｰﾄ'!Y55)","v":""},{"$nulls":25},{"$f":" IF('２．ｱｾｽﾒﾝﾄｼｰﾄ'!AI55=\"\", \"\",'２．ｱｾｽﾒﾝﾄｼｰﾄ'!AI55)","v":""},{"$nulls":29},"維持 →"]
[null,"排泄",{"$nulls":5},"排尿・排便",{"$nulls":13},{"$f":" IF('２．ｱｾｽﾒﾝﾄｼｰﾄ'!S25=\"\", \"\",'２．ｱｾｽﾒﾝﾄｼｰﾄ'!S25)","v":""},{"$nulls":9},{"$f":" IF('２．ｱｾｽﾒﾝﾄｼｰﾄ'!G25=\"\", \"\",'２．ｱｾｽﾒﾝﾄｼｰﾄ'!G25)","v":""},{"$nulls":9},{"$f":" IF('２．ｱｾｽﾒﾝﾄｼｰﾄ'!Y25=\"\", \"\",'２．ｱｾｽﾒﾝﾄｼｰﾄ'!Y25)","v":""},{"$nulls":25},{"$f":" IF('２．ｱｾｽﾒﾝﾄｼｰﾄ'!AI25=\"\", \"\",'２．ｱｾｽﾒﾝﾄｼｰﾄ'!AI25)","v":""},{"$nulls":29},"維持 →",{"$nulls":8},{"$f":"'２．ｱｾｽﾒﾝﾄｼｰﾄ'!BX32","v":0},{"$nulls":52},2]
[{"$nulls":7},"排泄動作",{"$nulls":13},{"$f":" IF('２．ｱｾｽﾒﾝﾄｼｰﾄ'!S46=\"\", \"\",'２．ｱｾｽﾒﾝﾄｼｰﾄ'!S46)","v":""},{"$nulls":9},{"$f":" IF('２．ｱｾｽﾒﾝﾄｼｰﾄ'!G46=\"\", \"\",'２．ｱｾｽﾒﾝﾄｼｰﾄ'!G46)","v":""},{"$nulls":9},{"$f":" IF('２．ｱｾｽﾒﾝﾄｼｰﾄ'!Y46=\"\", \"\",'２．ｱｾｽﾒﾝﾄｼｰﾄ'!Y46)","v":""},{"$nulls":25},{"$f":" IF('２．ｱｾｽﾒﾝﾄｼｰﾄ'!AI46=\"\", \"\",'２．ｱｾｽﾒﾝﾄｼｰﾄ'!AI46)","v":""},{"$nulls":29},"維持 →"]
[null,"口腔",{"$nulls":5},"口腔衛生",{"$nulls":13},{"$f":" IF('２．ｱｾｽﾒﾝﾄｼｰﾄ'!S24=\"\", \"\",'２．ｱｾｽﾒﾝﾄｼｰﾄ'!S24)","v":""},{"$nulls":9},{"$f":" IF('２．ｱｾｽﾒﾝﾄｼｰﾄ'!G24=\"\", \"\",'２．ｱｾｽﾒﾝﾄｼｰﾄ'!G24)","v":""},{"$nulls":9},{"$f":" IF('２．ｱｾｽﾒﾝﾄｼｰﾄ'!Y24=\"\", \"\",'２．ｱｾｽﾒﾝﾄｼｰﾄ'!Y24)","v":""},{"$nulls":25},{"$f":" IF('２．ｱｾｽﾒﾝﾄｼｰﾄ'!AI24=\"\", \"\",'２．ｱｾｽﾒﾝﾄｼｰﾄ'!AI24)","v":""},{"$nulls":29},"維持 →"]
[{"$nulls":7},"口腔ケア",{"$nulls":13},{"$f":" IF('２．ｱｾｽﾒﾝﾄｼｰﾄ'!S47=\"\", \"\",'２．ｱｾｽﾒﾝﾄｼｰﾄ'!S47)","v":""},{"$nulls":9},{"$f":" IF('２．ｱｾｽﾒﾝﾄｼｰﾄ'!G47=\"\", \"\",'２．ｱｾｽﾒﾝﾄｼｰﾄ'!G47)","v":""},{"$nulls":9},{"$f":" IF('２．ｱｾｽﾒﾝﾄｼｰﾄ'!Y47=\"\", \"\",'２．ｱｾｽﾒﾝﾄｼｰﾄ'!Y47)","v":"(義歯)"},{"$nulls":25},{"$f":" IF('２．ｱｾｽﾒﾝﾄｼｰﾄ'!AI47=\"\", \"\",'２．ｱｾｽﾒﾝﾄｼｰﾄ'!AI47)","v":""},{"$nulls":29},"維持 →"]
[null,"服薬",{"$nulls":19},{"$f":" IF('２．ｱｾｽﾒﾝﾄｼｰﾄ'!S54=\"\", \"\",'２．ｱｾｽﾒﾝﾄｼｰﾄ'!S54)","v":""},{"$nulls":9},{"$f":" IF('２．ｱｾｽﾒﾝﾄｼｰﾄ'!G54=\"\", \"\",'２．ｱｾｽﾒﾝﾄｼｰﾄ'!G54)","v":""},{"$nulls":9},{"$f":" IF('２．ｱｾｽﾒﾝﾄｼｰﾄ'!Y54=\"\", \"\",'２．ｱｾｽﾒﾝﾄｼｰﾄ'!Y54)","v":""},{"$nulls":25},{"$f":" IF('２．ｱｾｽﾒﾝﾄｼｰﾄ'!AI54=\"\", \"\",'２．ｱｾｽﾒﾝﾄｼｰﾄ'!AI54)","v":""},{"$nulls":29},"維持 →"]
[null,"入浴",{"$nulls":19},{"$f":" IF('２．ｱｾｽﾒﾝﾄｼｰﾄ'!S48=\"\", \"\",'２．ｱｾｽﾒﾝﾄｼｰﾄ'!S48)","v":""},{"$nulls":9},{"$f":" IF('２．ｱｾｽﾒﾝﾄｼｰﾄ'!G48=\"\", \"\",'２．ｱｾｽﾒﾝﾄｼｰﾄ'!G48)","v":""},{"$nulls":9},{"$f":" IF('２．ｱｾｽﾒﾝﾄｼｰﾄ'!Y48=\"\", \"\",'２．ｱｾｽﾒﾝﾄｼｰﾄ'!Y48)","v":""},{"$nulls":25},{"$f":" IF('２．ｱｾｽﾒﾝﾄｼｰﾄ'!AI48=\"\", \"\",'２．ｱｾｽﾒﾝﾄｼｰﾄ'!AI48)","v":""},{"$nulls":29},"維持 →",{"$nulls":8},{"$f":"'２．ｱｾｽﾒﾝﾄｼｰﾄ'!BX42","v":0},{"$nulls":52},3]
[null,"更衣",{"$nulls":19},{"$f":" IF('２．ｱｾｽﾒﾝﾄｼｰﾄ'!S49=\"\", \"\",'２．ｱｾｽﾒﾝﾄｼｰﾄ'!S49)","v":""},{"$nulls":9},{"$f":" IF('２．ｱｾｽﾒﾝﾄｼｰﾄ'!G49=\"\", \"\",'２．ｱｾｽﾒﾝﾄｼｰﾄ'!G49)","v":""},{"$nulls":9},{"$f":" IF('２．ｱｾｽﾒﾝﾄｼｰﾄ'!Y49=\"\", \"\",'２．ｱｾｽﾒﾝﾄｼｰﾄ'!Y49)","v":""},{"$nulls":25},{"$f":" IF('２．ｱｾｽﾒﾝﾄｼｰﾄ'!AI49=\"\", \"\",'２．ｱｾｽﾒﾝﾄｼｰﾄ'!AI49)","v":""},{"$nulls":29},"維持 →"]
[null,"掃除",{"$nulls":19},{"$f":" IF('２．ｱｾｽﾒﾝﾄｼｰﾄ'!S56=\"\", \"\",'２．ｱｾｽﾒﾝﾄｼｰﾄ'!S56)","v":""},{"$nulls":9},{"$f":" IF('２．ｱｾｽﾒﾝﾄｼｰﾄ'!G56=\"\", \"\",'２．ｱｾｽﾒﾝﾄｼｰﾄ'!G56)","v":""},{"$nulls":9},{"$f":" IF('２．ｱｾｽﾒﾝﾄｼｰﾄ'!Y56=\"\", \"\",'２．ｱｾｽﾒﾝﾄｼｰﾄ'!Y56)","v":""},{"$nulls":25},{"$f":" IF('２．ｱｾｽﾒﾝﾄｼｰﾄ'!AI56=\"\", \"\",'２．ｱｾｽﾒﾝﾄｼｰﾄ'!AI56)","v":""},{"$nulls":29},"維持 →"]
[null,"洗濯",{"$nulls":19},{"$f":" IF('２．ｱｾｽﾒﾝﾄｼｰﾄ'!S57=\"\", \"\",'２．ｱｾｽﾒﾝﾄｼｰﾄ'!S57)","v":""},{"$nulls":9},{"$f":" IF('２．ｱｾｽﾒﾝﾄｼｰﾄ'!G57=\"\", \"\",'２．ｱｾｽﾒﾝﾄｼｰﾄ'!G57)","v":""},{"$nulls":9},{"$f":" IF('２．ｱｾｽﾒﾝﾄｼｰﾄ'!Y57=\"\", \"\",'２．ｱｾｽﾒﾝﾄｼｰﾄ'!Y57)","v":""},{"$nulls":25},{"$f":" IF('２．ｱｾｽﾒﾝﾄｼｰﾄ'!AI57=\"\", \"\",'２．ｱｾｽﾒﾝﾄｼｰﾄ'!AI57)","v":""},{"$nulls":29},"維持 →"]
[null,"整理・物品の管理",{"$nulls":19},{"$f":" IF('２．ｱｾｽﾒﾝﾄｼｰﾄ'!S59=\"\", \"\",'２．ｱｾｽﾒﾝﾄｼｰﾄ'!S59)","v":""},{"$nulls":9},{"$f":" IF('２．ｱｾｽﾒﾝﾄｼｰﾄ'!G59=\"\", \"\",'２．ｱｾｽﾒﾝﾄｼｰﾄ'!G59)","v":""},{"$nulls":9},{"$f":" IF('２．ｱｾｽﾒﾝﾄｼｰﾄ'!Y59=\"\", \"\",'２．ｱｾｽﾒﾝﾄｼｰﾄ'!Y59)","v":""},{"$nulls":25},{"$f":" IF('２．ｱｾｽﾒﾝﾄｼｰﾄ'!AI59=\"\", \"\",'２．ｱｾｽﾒﾝﾄｼｰﾄ'!AI59)","v":""},{"$nulls":29},"維持 →"]
[null,"金銭管理",{"$nulls":19},{"$f":" IF('２．ｱｾｽﾒﾝﾄｼｰﾄ'!S60=\"\", \"\",'２．ｱｾｽﾒﾝﾄｼｰﾄ'!S60)","v":""},{"$nulls":9},{"$f":" IF('２．ｱｾｽﾒﾝﾄｼｰﾄ'!G60=\"\", \"\",'２．ｱｾｽﾒﾝﾄｼｰﾄ'!G60)","v":""},{"$nulls":9},{"$f":" IF('２．ｱｾｽﾒﾝﾄｼｰﾄ'!Y60=\"\", \"\",'２．ｱｾｽﾒﾝﾄｼｰﾄ'!Y60)","v":""},{"$nulls":25},{"$f":" IF('２．ｱｾｽﾒﾝﾄｼｰﾄ'!AI60=\"\", \"\",'２．ｱｾｽﾒﾝﾄｼｰﾄ'!AI60)","v":""},{"$nulls":29},"維持 →",{"$nulls":8},{"$f":"'２．ｱｾｽﾒﾝﾄｼｰﾄ'!BX52","v":0}]
[null,"買物",{"$nulls":19},{"$f":" IF('２．ｱｾｽﾒﾝﾄｼｰﾄ'!S58=\"\", \"\",'２．ｱｾｽﾒﾝﾄｼｰﾄ'!S58)","v":""},{"$nulls":9},{"$f":" IF('２．ｱｾｽﾒﾝﾄｼｰﾄ'!G58=\"\", \"\",'２．ｱｾｽﾒﾝﾄｼｰﾄ'!G58)","v":""},{"$nulls":9},{"$f":" IF('２．ｱｾｽﾒﾝﾄｼｰﾄ'!Y58=\"\", \"\",'２．ｱｾｽﾒﾝﾄｼｰﾄ'!Y58)","v":""},{"$nulls":25},{"$f":" IF('２．ｱｾｽﾒﾝﾄｼｰﾄ'!AI58=\"\", \"\",'２．ｱｾｽﾒﾝﾄｼｰﾄ'!AI58)","v":""},{"$nulls":29},"維持 →"]
[null,"コミュニケーション能力",{"$nulls":19},{"$f":" IF('２．ｱｾｽﾒﾝﾄｼｰﾄ'!S61=\"\", \"\",'２．ｱｾｽﾒﾝﾄｼｰﾄ'!S61)","v":""},{"$nulls":9},{"$f":" IF('２．ｱｾｽﾒﾝﾄｼｰﾄ'!G61=\"\", \"\",'２．ｱｾｽﾒﾝﾄｼｰﾄ'!G61)","v":""},{"$nulls":9},{"$f":" IF('２．ｱｾｽﾒﾝﾄｼｰﾄ'!Y61=\"\", \"\",'２．ｱｾｽﾒﾝﾄｼｰﾄ'!Y61)","v":""},{"$nulls":25},{"$f":" IF('２．ｱｾｽﾒﾝﾄｼｰﾄ'!AI61=\"\", \"\",'２．ｱｾｽﾒﾝﾄｼｰﾄ'!AI61)","v":""},{"$nulls":29},"維持 →"]
[null,"認知",{"$nulls":19},{"$f":" IF('２．ｱｾｽﾒﾝﾄｼｰﾄ'!S33=\"\", \"\",'２．ｱｾｽﾒﾝﾄｼｰﾄ'!S33)","v":""},{"$nulls":9},{"$f":" IF('２．ｱｾｽﾒﾝﾄｼｰﾄ'!G33=\"\", \"\",'２．ｱｾｽﾒﾝﾄｼｰﾄ'!G33)","v":""},{"$nulls":9},{"$f":" IF('２．ｱｾｽﾒﾝﾄｼｰﾄ'!Y33=\"\", \"\",'２．ｱｾｽﾒﾝﾄｼｰﾄ'!Y33)","v":""},{"$nulls":25},{"$f":" IF('２．ｱｾｽﾒﾝﾄｼｰﾄ'!AI33=\"\", \"\",'２．ｱｾｽﾒﾝﾄｼｰﾄ'!AI33)","v":""},{"$nulls":29},"維持 →"]
[null,"社会との関わり",{"$nulls":19},{"$f":" IF('２．ｱｾｽﾒﾝﾄｼｰﾄ'!S65=\"\", \"\",'２．ｱｾｽﾒﾝﾄｼｰﾄ'!S65)","v":""},{"$nulls":9},{"$f":" IF('２．ｱｾｽﾒﾝﾄｼｰﾄ'!G65=\"\", \"\",'２．ｱｾｽﾒﾝﾄｼｰﾄ'!G65)","v":""},{"$nulls":9},{"$f":" IF('２．ｱｾｽﾒﾝﾄｼｰﾄ'!Y65=\"\", \"\",'２．ｱｾｽﾒﾝﾄｼｰﾄ'!Y65)","v":""},{"$nulls":25},{"$f":" IF('２．ｱｾｽﾒﾝﾄｼｰﾄ'!AI65=\"\", \"\",'２．ｱｾｽﾒﾝﾄｼｰﾄ'!AI65)","v":""},{"$nulls":29},"維持 →"]
[null,"褥瘡・皮膚の問題",{"$nulls":19},{"$f":" IF('２．ｱｾｽﾒﾝﾄｼｰﾄ'!S32=\"\", \"\",'２．ｱｾｽﾒﾝﾄｼｰﾄ'!S32)","v":""},{"$nulls":9},{"$f":" IF('２．ｱｾｽﾒﾝﾄｼｰﾄ'!G32=\"\", \"\",'２．ｱｾｽﾒﾝﾄｼｰﾄ'!G32)","v":""},{"$nulls":9},{"$f":" IF('２．ｱｾｽﾒﾝﾄｼｰﾄ'!Y32=\"\", \"\",'２．ｱｾｽﾒﾝﾄｼｰﾄ'!Y32)","v":""},{"$nulls":25},{"$f":" IF('２．ｱｾｽﾒﾝﾄｼｰﾄ'!AI32=\"\", \"\",'２．ｱｾｽﾒﾝﾄｼｰﾄ'!AI32)","v":""},{"$nulls":29},"維持 →",{"$nulls":8},{"$f":"'２．ｱｾｽﾒﾝﾄｼｰﾄ'!BX61","v":0}]
[null,"行動・心理症状（ＢＰＳＤ）",{"$nulls":19},{"$f":" IF('２．ｱｾｽﾒﾝﾄｼｰﾄ'!S34=\"\", \"\",'２．ｱｾｽﾒﾝﾄｼｰﾄ'!S34)","v":""},{"$nulls":9},{"$f":" IF('２．ｱｾｽﾒﾝﾄｼｰﾄ'!G34=\"\", \"\",'２．ｱｾｽﾒﾝﾄｼｰﾄ'!G34)","v":""},{"$nulls":9},{"$f":" IF('２．ｱｾｽﾒﾝﾄｼｰﾄ'!Y34=\"\", \"\",'２．ｱｾｽﾒﾝﾄｼｰﾄ'!Y34)","v":""},{"$nulls":25},{"$f":" IF('２．ｱｾｽﾒﾝﾄｼｰﾄ'!AI34=\"\", \"\",'２．ｱｾｽﾒﾝﾄｼｰﾄ'!AI34)","v":""},{"$nulls":29},"維持 →"]
[null,"介護力",{"$nulls":19},{"$f":" IF('２．ｱｾｽﾒﾝﾄｼｰﾄ'!S70=\"\", \"\",'２．ｱｾｽﾒﾝﾄｼｰﾄ'!S70)","v":""},{"$nulls":9},{"$f":" IF('２．ｱｾｽﾒﾝﾄｼｰﾄ'!G70=\"\", \"\",'２．ｱｾｽﾒﾝﾄｼｰﾄ'!G70)","v":""},{"$nulls":9},{"$f":" IF('２．ｱｾｽﾒﾝﾄｼｰﾄ'!Y70=\"\", \"\",'２．ｱｾｽﾒﾝﾄｼｰﾄ'!Y70)","v":""},{"$nulls":25},{"$f":" IF('２．ｱｾｽﾒﾝﾄｼｰﾄ'!AI70=\"\", \"\",'２．ｱｾｽﾒﾝﾄｼｰﾄ'!AI70)","v":""},{"$nulls":29},"維持 →"]
[null,"居住環境",{"$nulls":19},{"$f":" IF('２．ｱｾｽﾒﾝﾄｼｰﾄ'!S69=\"\", \"\",'２．ｱｾｽﾒﾝﾄｼｰﾄ'!S69)","v":""},{"$nulls":9},{"$f":" IF('２．ｱｾｽﾒﾝﾄｼｰﾄ'!G69=\"\", \"\",'２．ｱｾｽﾒﾝﾄｼｰﾄ'!G69)","v":""},{"$nulls":9},{"$f":" IF('２．ｱｾｽﾒﾝﾄｼｰﾄ'!Y69=\"\", \"\",'２．ｱｾｽﾒﾝﾄｼｰﾄ'!Y69)","v":""},{"$nulls":25},{"$f":" IF('２．ｱｾｽﾒﾝﾄｼｰﾄ'!AI69=\"\", \"\",'２．ｱｾｽﾒﾝﾄｼｰﾄ'!AI69)","v":""},{"$nulls":29},"維持 →"]
[{"$nulls":97},"維持 →",{"$nulls":8},{"$f":"'２．ｱｾｽﾒﾝﾄｼｰﾄ'!BX69","v":0}]
[{"$nulls":97},"維持 →"]
[{"$nulls":97},"維持 →"]
[{"$nulls":97},"維持 →"]
[]
[null,"※1　本書式は総括表でありアセスメントツールではないため、必ず別に詳細な情報収集・分析を行うこと。なお「状況の事実」の各項目は課題分析標準項目に準拠しているが、必要に応じて追加して差し支えない。\n※2　介護支援専門員が収集したた客観的事実を記載する。選択肢に✔を記入する。\n※3　現在の状況が「自立」あるいは「支障なし」以外である場合に、そのような状況をもたらしている要因を、様式上部の「要因」欄から選択し、該当する番号（丸数字）を記入する（複数の番号を記入可）。\n※4　今回の認定有効期間における状況の改善/維持/悪化の可能性について、介護支援専門員の判断として選択肢に✔を記入する。",{"$nulls":103},"※5　「要因」および「改善/維持の可能性」を踏まえ、要因を解決するための援助内容と、それが提供されることによって見込まれる事後の状況（目標）を記載する。\n※6　本計画期間における優先順位を数字で記入。ただし、解決が必要だが本計画期間に取り上げることが困難な課題には、「－」印を記入。"]

{"sheet":"１．(A4版)基本情報ｼｰﾄ（印刷用）","index":3,"n_rows":72,"n_cols":63,"rows_kept":72,"merged":[[1,13,1,34],[2,13,2,34],[3,13,3,34],[4,13,4,34],[7,13,7,34],[8,0,8,30],[8,31,8,38],[8,39,8,53],[8,54,8,60],[10,7,10,8],[10,9,10,15],[10,16,10,17],[10,20,10,21],[10,22,10,29],[10,32,12,34],[10,35,10,37],[10,38,10,42],[10,43,10,45],[10,46,10,52],[10,53,10,60],[10,62,17,68],[11,35,12,37],[11,38,12,42],[11,43,12,45],[11,46,12,49],[11,50,12,50],[11,51,12,54],[11,55,12,60],[12,1,12,3],[12,4,12,13],[12,14,12,16],[12,17,12,20],[12,21,12,22],[12,23,12,24],[12,26,12,28],[13,1,13,3],[13,4,13,7],[13,8,13,9],[13,10,13,11],[13,13,13,19],[13,21,13,22],[13,23,13,29],[13,32,13,37],[13,38,13,41],[13,42,13,48],[13,49,13,52],[13,53,13,54],[13,55,13,60],[14,1,14,4],[14,5,14,9],[14,11,14,19],[14,21,14,22],[14,23,14,24],[14,26,14,28],[14,32,31,32],[14,33,15,36],[14,37,15,42],[14,43,15,48],[14,49,15,54],[14,55,15,60],[16,1,22,1],[16,2,16,4],[16,5,16,14],[16,15,16,29],[16,33,16,36],[16,37,16,42],[16,43,16,48],[16,49,16,54],[16,55,16,60],[17,2,19,4],[17,5,17,12],[17,13,19,14],[17,15,19,16],[17,17,19,18],[17,19,19,26],[17,27,19,27],[17,28,19,28],[17,29,19,29],[17,33,17,36],[17,37,17,38],[17,40,17,41],[17,43,17,44],[17,46,17,47],[17,49,17,50],[17,52,17,53],[17,55,17,56],[17,58,17,59],[18,5,19,11],[18,12,19,12],[18,33,20,34],[18,35,18,36],[18,37,18,42],[18,43,18,48],[18,49,18,54],[18,55,18,60],[19,35,20,36],[19,37,19,42],[19,43,19,48],[19,49,19,54],[19,55,19,60],[20,2,22,4],[20,6,20,9],[20,10,20,20],[20,21,20,22],[20,23,20,29],[20,37,20,39],[20,43,20,45],[20,49,20,51],[20,55,20,57],[21,5,22,20],[21,21,21,22],[21,23,21,29],[21,33,22,36],[21,37,22,42],[21,43,22,48],[21,49,22,54],[21,55,22,60],[22,21,22,22],[22,23,22,29],[23,1,40,1],[23,2,23,4],[23,5,23,17],[23,18,40,18],[23,19,23,20],[23,21,23,23],[23,25,23,28],[23,33,23,36],[23,37,23,42],[23,43,23,48],[23,49,23,54],[23,55,23,60],[24,2,27,17],[24,19,40,29],[24,33,24,36],[24,37,24,42],[24,43,24,48],[24,49,24,54],[24,55,24,60],[25,33,31,33],[25,34,25,60],[26,34,31,60],[28,2,28,9],[28,10,28,12],[28,13,28,17],[29,2,34,2],[29,3,34,12],[29,13,40,17],[32,32,49,32],[32,33,32,35],[32,36,32,40],[32,42,32,44],[32,46,32,60],[33,33,33,35],[33,36,33,37],[33,38,33,40],[33,41,33,42],[33,43,33,45],[33,46,49,60],[34,33,36,33],[34,34,34,35],[34,36,34,37],[34,39,34,40],[34,42,34,43],[34,44,34,45],[34,63,61,82],[35,2,40,2],[35,3,40,12],[35,34,35,35],[35,36,35,37],[35,38,35,39],[35,40,35,41],[35,42,35,43],[35,44,35,45],[36,34,36,35],[36,36,36,45],[37,33,38,33],[37,34,37,35],[37,36,37,37],[37,38,37,39],[37,40,37,41],[37,42,37,43],[37,44,37,45],[38,34,38,35],[38,36,38,45],[39,33,40,33],[39,34,39,35],[39,36,39,37],[39,38,39,39],[39,40,39,41],[39,42,39,43],[39,44,39,45],[40,34,40,35],[40,36,40,37],[40,38,40,39],[40,40,40,45],[41,1,50,1],[41,2,41,3],[41,4,41,8],[41,9,41,10],[41,11,41,12],[41,13,41,20],[41,21,41,29],[41,33,49,33],[41,34,49,45],[42,2,44,3],[42,4,44,8],[42,9,44,10],[42,11,44,12],[42,13,44,20],[42,21,42,22],[42,23,42,29],[43,21,43,22],[43,23,43,29],[44,21,44,22],[44,23,44,29],[45,2,47,3],[45,4,47,8],[45,9,47,10],[45,11,47,12],[45,13,47,20],[45,21,45,22],[45,23,45,29],[46,21,46,22],[46,23,46,29],[47,21,47,22],[47,23,47,29],[48,2,50,3],[48,4,50,8],[48,9,50,10],[48,11,50,12],[48,13,50,20],[48,21,48,22],[48,23,48,29],[49,21,49,22],[49,23,49,29],[50,21,50,22],[50,23,50,29],[50,32,50,34],[50,35,50,36],[50,38,50,44],[50,46,50,48],[50,49,50,50],[50,52,50,59],[51,1,53,3],[51,4,51,8],[51,9,51,12],[51,13,51,22],[51,23,51,29],[51,32,58,32],[51,33,51,36],[51,37,51,39],[51,41,51,44],[51,46,51,48],[51,49,51,50],[51,52,51,54],[51,56,51,58],[51,59,51,60],[52,4,53,8],[52,9,53,12],[52,13,53,22],[52,23,53,29],[52,33,52,36],[52,37,52,39],[52,40,52,43],[52,44,52,46],[52,47,52,50],[52,51,52,53],[52,54,52,57],[52,58,52,60],[53,33,53,36],[53,37,53,39],[53,40,53,43],[53,44,53,46],[53,47,53,50],[53,51,53,53],[53,54,53,57],[53,58,53,60],[54,1,61,1],[54,2,54,3],[54,4,54,17],[54,18,54,21],[54,24,54,29],[54,33,58,33],[54,34,58,60],[55,2,61,17],[55,18,59,29],[59,32,69,32],[59,33,59,42],[59,43,59,45],[59,46,59,53],[59,54,59,60],[60,18,60,21],[60,22,60,29],[60,33,64,33],[60,34,60,42],[60,44,60,45],[60,46,60,53],[60,54,60,60],[61,18,61,21],[61,22,61,29],[61,34,61,42],[61,44,61,45],[61,46,61,53],[61,54,61,60],[62,1,71,1],[62,2,62,4],[62,5,62,17],[62,18,62,29],[62,34,62,42],[62,44,62,45],[62,46,62,53],[62,54,62,60],[63,2,71,17],[63,18,63,21],[63,22,63,25],[63,26,63,29],[63,34,63,42],[63,44,63,45],[63,46,63,53],[63,54,63,60],[64,18,64,21],[64,22,64,25],[64,26,64,29],[64,34,64,42],[64,44,64,45],[64,46,64,53],[64,54,64,60],[65,18,65,21],[65,22,65,25],[65,26,65,29],[65,33,69,33],[65,34,65,42],[65,44,65,45],[65,46,65,53],[65,54,65,60],[66,18,66,21],[66,22,66,25],[66,26,66,29],[66,34,66,42],[66,44,66,45],[66,46,66,53],[66,54,66,60],[67,18,67,21],[67,22,67,25],[67,26,67,29],[67,34,67,42],[67,44,67,45],[67,46,67,53],[67,54,67,60],[68,18,68,21],[68,22,68,25],[68,26,68,29],[68,34,68,42],[68,44,68,45],[68,46,68,53],[68,54,68,60],[69,18,69,21],[69,22,69,25],[69,26,69,29],[69,34,69,42],[69,44,69,45],[69,46,69,53],[69,54,69,60],[70,18,70,21],[70,22,70,25],[70,26,70,29],[70,32,71,41],[70,42,71,43],[70,44,71,60],[71,18,71,21],[71,22,71,25],[71,26,71,29],[73,15,85,31]]}
[]
[{"$nulls":13},"【※１】 画面の拡大・縮小は、右下のパーセンテージで操作できます。"]
[{"$nulls":13},"【※２】薄黄色の項目は、プルダウン式になっています。"]
[{"$nulls":13},"【※３】黄色の項目は課題整理総括表へリンクします。"]
[{"$nulls":13},"【※４】薄緑色の項目はアセスメントチェックシートへリンクします。"]
[]
[]
[{"$nulls":13},"【※５】↓印刷範囲・入力項目などは、この下からです。↓"]
["基本情報シート 1/2",{"$nulls":38},"基本情報シート 2/2",{"$nulls":14},"（沖縄県 共通アセスメント様式 Ver 2.0）"]
[]
[{"$nulls":7},"作成日",null,{"$f":"'１．基本情報シート'!J11","v":"00:00:00"},{"$nulls":6},"現在",{"$nulls":3},"作成者",null,{"$f":"'１．基本情報シート'!W11","v":0},{"$nulls":9},"認定情報",null,null,"認定区分",null,null,{"$f":"'１．基本情報シート'!AM11","v":0},{"$nulls":4},"認定年月日",null,null,{"$f":"'１．基本情報シート'!AU11","v":"00:00:00"},{"$nulls":15},"下記項目はA３シートよりコピーアンドペーストしてください。\n\n　　・ジェノグラム\n　　・間取図\n\n"]
[{"$nulls":35},"区分支給限度額",null,null,{"$f":"IF(AM11=\"\",\"―\",VLOOKUP(AM11,'プルダウン・素材用（入力不要）'!$L$5:$M$13,2,FALSE))","v":{"$error":"#N/A"}},{"$nulls":4},"認定期間",null,null,{"$f":"'１．基本情報シート'!AU12","v":"00:00:00"},{"$nulls":3},"～",{"$f":"'１．基本情報シート'!AZ12","v":"00:00:00"},{"$nulls":3},{"$f":"'１．基本情報シート'!BD12","v":{"v":0,"d":"　 (  00ヶ月  )"}}]
[null,"受付日",null,null,{"$f":"'１．基本情報シート'!E13","v":"00:00:00"},{"$nulls":9},"受付対応者",null,null,{"$f":"'１．基本情報シート'!R13","v":0},{"$nulls":3},"受付方法",null,{"$f":"'１．基本情報シート'!X13","v":0},null,"（",{"$f":"'１．基本情報シート'!AA13","v":0},null,null,"）"]
[null,"相談者氏名",null,null,{"$f":"'１．基本情報シート'!E14","v":0},{"$nulls":3},"続柄",null,{"$f":"'１．基本情報シート'!K14","v":0},null,"（",{"$f":"'１．基本情報シート'!N14","v":0},{"$nulls":6},"）","連絡先",null,{"$f":"'１．基本情報シート'!X14","v":0},{"$nulls":8},"障害高齢者の日常生活自立度",{"$nulls":5},{"$f":"'１．基本情報シート'!AM14","v":0},{"$nulls":3},"認知症高齢者の日常生活自立度",{"$nulls":6},{"$f":"'１．基本情報シート'!AX14","v":0},{"$nulls":3},"診察日(判定日）",null,{"$f":"'１．基本情報シート'!BD14","v":"00:00:00"}]
[null,"アセスメント理由",{"$nulls":3},{"$f":"'１．基本情報シート'!F15","v":0},{"$nulls":4},"（",{"$f":"'１．基本情報シート'!L15","v":0},{"$nulls":8},"）","実施場所",null,{"$f":"'１．基本情報シート'!X15","v":0},null,"（",{"$f":"'１．基本情報シート'!AA15","v":0},null,null,"）",null,null,"現在の受診状況","病名",{"$nulls":3},{"$f":"'１．基本情報シート'!AL15","v":0},{"$nulls":5},{"$f":"'１．基本情報シート'!AR15","v":0},{"$nulls":5},{"$f":"'１．基本情報シート'!AX15","v":0},{"$nulls":5},{"$f":"'１．基本情報シート'!BD15","v":0}]
[]
[null,"利用者情報","被保険者番号",null,null,{"$f":"'１．基本情報シート'!F17","v":0},{"$nulls":27},"発症年月日",{"$nulls":3},{"$f":"'１．基本情報シート'!AL17","v":"00:00:00"},{"$nulls":5},{"$f":"'１．基本情報シート'!AR17","v":"00:00:00"},{"$nulls":5},{"$f":"'１．基本情報シート'!AX17","v":"00:00:00"},{"$nulls":5},{"$f":"'１．基本情報シート'!BD17","v":"00:00:00"}]
[null,null,"ふりがな\n氏　名",null,null,{"$f":"'１．基本情報シート'!F18","v":0},{"$nulls":7},"性別",null,{"$f":"'１．基本情報シート'!P18","v":0},null,"生年月日",null,{"$f":"'１．基本情報シート'!T18","v":"00:00:00"},{"$nulls":7},"（　",{"$f":"'１．基本情報シート'!AC18","v":0},"歳）",{"$nulls":3},"薬の有無",{"$nulls":3},{"$f":"'１．基本情報シート'!AL18","v":0},null,"（",{"$f":"'１．基本情報シート'!AO18","v":0},null,"）",{"$f":"'１．基本情報シート'!AR18","v":0},null,"（",{"$f":"'１．基本情報シート'!AU18","v":0},null,"）",{"$f":"'１．基本情報シート'!AX18","v":0},null,"（",{"$f":"'１．基本情報シート'!BA18","v":0},null,"）",{"$f":"'１．基本情報シート'!BD18","v":0},null,"（",{"$f":"'１．基本情報シート'!BG18","v":0},null,"）"]
[{"$nulls":5},{"$f":"'１．基本情報シート'!F19","v":0},{"$nulls":6},"様",{"$nulls":20},"受診",null,"状況",null,{"$f":"'１．基本情報シート'!AL19","v":0},{"$nulls":5},{"$f":"'１．基本情報シート'!AR19","v":0},{"$nulls":5},{"$f":"'１．基本情報シート'!AX19","v":0},{"$nulls":5},{"$f":"'１．基本情報シート'!BD19","v":0}]
[{"$nulls":35},"頻度",null,{"$f":"'１．基本情報シート'!AL20","v":0},{"$nulls":5},{"$f":"'１．基本情報シート'!AR20","v":0},{"$nulls":5},{"$f":"'１．基本情報シート'!AX20","v":0},{"$nulls":5},{"$f":"'１．基本情報シート'!BD20","v":0}]
[null,null,"住　所",null,null,"〒",{"$f":"'１．基本情報シート'!G21","v":{"v":0,"d":"000-0000"}},{"$nulls":14},"Tel/Fax",null,{"$f":"'１．基本情報シート'!X21","v":0},{"$nulls":13},"（定期の場合⇒",null,null,{"$f":"'１．基本情報シート'!AO21","v":0},{"$f":"'１．基本情報シート'!AP21","v":0},"回）","（定期の場合⇒",null,null,{"$f":"'１．基本情報シート'!AU21","v":0},{"$f":"'１．基本情報シート'!AV21","v":0},"回）","（定期の場合⇒",null,null,{"$f":"'１．基本情報シート'!BA21","v":0},{"$f":"'１．基本情報シート'!BB21","v":0},"回）","（定期の場合⇒",null,null,{"$f":"'１．基本情報シート'!BG21","v":0},{"$f":"'１．基本情報シート'!BH21","v":0},"回）"]
[{"$nulls":5},{"$f":"'１．基本情報シート'!F22","v":0},{"$nulls":15},"携帯",null,{"$f":"'１．基本情報シート'!X22","v":0},{"$nulls":9},"医療機関",{"$nulls":3},{"$f":"'１．基本情報シート'!AL22","v":0},{"$nulls":5},{"$f":"'１．基本情報シート'!AR22","v":0},{"$nulls":5},{"$f":"'１．基本情報シート'!AX22","v":0},{"$nulls":5},{"$f":"'１．基本情報シート'!BD22","v":0}]
[{"$nulls":21},"E-mail",null,{"$f":"'１．基本情報シート'!X23","v":0}]
[null,"利用者・家族の望む生活","相談の経緯",{"$nulls":15},"家族状況（ジェノグラム）","世帯",null,{"$f":"'１．基本情報シート'!V24","v":0},null,null,"（",{"$f":"'１．基本情報シート'!Z24","v":0},{"$nulls":3},"）",{"$nulls":3},"主治医",{"$nulls":3},{"$f":"'１．基本情報シート'!AL24","v":0},{"$nulls":5},{"$f":"'１．基本情報シート'!AR24","v":0},{"$nulls":5},{"$f":"'１．基本情報シート'!AX24","v":0},{"$nulls":5},{"$f":"'１．基本情報シート'!BD24","v":0}]
[null,null,{"$f":"'１．基本情報シート'!C25","v":0},{"$nulls":30},"連絡先",{"$nulls":3},{"$f":"'１．基本情報シート'!AL25","v":0},{"$nulls":5},{"$f":"'１．基本情報シート'!AR25","v":0},{"$nulls":5},{"$f":"'１．基本情報シート'!AX25","v":0},{"$nulls":5},{"$f":"'１．基本情報シート'!BD25","v":0}]
[{"$nulls":33},"特記・備考","（症状、痛み、生活上配慮すべき課題など）"]
[{"$nulls":34},{"$f":"'１．基本情報シート'!AI27","v":0}]
[]
[null,null,"利用者及び家族の生活に対する意向",{"$nulls":10},"家族関係等で特記すべき事項"]
[null,null,"（利用者）",{"$f":"'１．基本情報シート'!D30","v":0},{"$nulls":9},{"$f":"'１．基本情報シート'!N30","v":0}]
[]
[]
[{"$nulls":32},"住居の状況","住居",null,null,{"$f":"'１．基本情報シート'!AK33","v":0},{"$nulls":4},"（",{"$f":"'１．基本情報シート'!AQ33","v":0},null,null,"）","〔間取図〕"]
[{"$nulls":33},"所有形態",null,null,{"$f":"'１．基本情報シート'!AK34","v":0},null,"エレベーター",null,null,{"$f":"'１．基本情報シート'!AP34","v":0},null,{"$f":"'１．基本情報シート'!AR34","v":0},null,null,{"$f":"'１．基本情報シート'!AU34","v":0}]
[{"$nulls":33},"居室","専用居室",null,{"$f":"'１．基本情報シート'!AK35","v":0},null,"（",{"$f":"'１．基本情報シート'!AN35","v":0},null,"畳）","段差",null,{"$f":"'１．基本情報シート'!AS35","v":0}]
[null,null,"（家族）",{"$f":"'１．基本情報シート'!D36","v":0},{"$nulls":30},"手すり",null,{"$f":"'１．基本情報シート'!AK36","v":0},null,"寝具",null,{"$f":"'１．基本情報シート'!AO36","v":0},null,"冷暖房",null,{"$f":"'１．基本情報シート'!AS36","v":0}]
[{"$nulls":34},"他",null,{"$f":"'１．基本情報シート'!AK37","v":0}]
[{"$nulls":33},"トイレ","便器",null,{"$f":"'１．基本情報シート'!AK38","v":0},null,"段差",null,{"$f":"'１．基本情報シート'!AO38","v":0},null,"手すり",null,{"$f":"'１．基本情報シート'!AS38","v":0}]
[{"$nulls":34},"他",null,{"$f":"'１．基本情報シート'!AK39","v":0}]
[{"$nulls":33},"浴室","浴槽",null,{"$f":"'１．基本情報シート'!AK40","v":0},null,"段差",null,{"$f":"'１．基本情報シート'!AO40","v":0},null,"手すり",null,{"$f":"'１．基本情報シート'!AS40","v":0}]
[{"$nulls":34},"シャワー",null,{"$f":"'１．基本情報シート'!AK41","v":0},null,"他",null,{"$f":"'１．基本情報シート'!AO41","v":0}]
[null,"家族情報","介護者",null,"氏　名",{"$nulls":4},"続柄",null,"同居・別居",null,"住所",{"$nulls":7},"連絡先",{"$nulls":11},"特記事項",{"$f":"'１．基本情報シート'!AI42","v":0}]
[null,null,{"$f":"'１．基本情報シート'!C43","v":0},null,{"$f":"'１．基本情報シート'!E43","v":0},{"$nulls":4},{"$f":"'１．基本情報シート'!J43","v":0},null,{"$f":"'１．基本情報シート'!L43","v":0},null,{"$f":"'１．基本情報シート'!N43","v":0},{"$nulls":7},"Tel/Fax",null,{"$f":"'１．基本情報シート'!X43","v":0}]
[{"$nulls":21},"携帯",null,{"$f":"'１．基本情報シート'!X44","v":0}]
[{"$nulls":21},"E-mail",null,{"$f":"'１．基本情報シート'!X45","v":0}]
[null,null,{"$f":"'１．基本情報シート'!C46","v":0},null,{"$f":"'１．基本情報シート'!E46","v":0},{"$nulls":4},{"$f":"'１．基本情報シート'!J46","v":0},null,{"$f":"'１．基本情報シート'!L46","v":0},null,{"$f":"'１．基本情報シート'!N46","v":0},{"$nulls":7},"Tel/Fax",null,{"$f":"'１．基本情報シート'!X46","v":0}]
[{"$nulls":21},"携帯",null,{"$f":"'１．基本情報シート'!X47","v":0}]
[{"$nulls":21},"E-mail",null,{"$f":"'１．基本情報シート'!X48","v":0}]
[null,null,{"$f":"'１．基本情報シート'!C49","v":0},null,{"$f":"'１．基本情報シート'!E49","v":0},{"$nulls":4},{"$f":"'１．基本情報シート'!J49","v":0},null,{"$f":"'１．基本情報シート'!L49","v":0},null,{"$f":"'１．基本情報シート'!N49","v":0},{"$nulls":7},"Tel/Fax",null,{"$f":"'１．基本情報シート'!X49","v":0}]
[{"$nulls":21},"携帯",null,{"$f":"'１．基本情報シート'!X50","v":0}]
[{"$nulls":21},"E-mail",null,{"$f":"'１．基本情報シート'!X51","v":0},{"$nulls":8},"住宅改修",null,null,{"$f":"'１．基本情報シート'!AJ51","v":0},null,"（",{"$f":"'１．基本情報シート'!AM51","v":0},{"$nulls":6},"）","福祉用具購入",null,null,{"$f":"'１．基本情報シート'!AX51","v":0},null,"（",{"$f":"'１．基本情報シート'!BA51","v":0},{"$nulls":7},"）"]
[null,"緊急搬送先\n（主治医）",null,null,"医療機関名",{"$nulls":4},"主治医名",{"$nulls":3},"住所",{"$nulls":9},"連絡先",{"$nulls":8},"制度利用状況","年金種別",{"$nulls":3},{"$f":"'１．基本情報シート'!AL52:AN52","v":0},null,null,"（",{"$f":"'１．基本情報シート'!AP52:AS52","v":0},{"$nulls":3},"）","指定難病",null,null,{"$f":"'１．基本情報シート'!AX52:AY52","v":0},null,"（",{"$f":"'１．基本情報シート'!BA52:BC52","v":0},null,null,"）","療育手帳",null,null,{"$f":"'１．基本情報シート'!BH52","v":0}]
[{"$nulls":4},{"$f":"'１．基本情報シート'!E53","v":0},{"$nulls":4},{"$f":"'１．基本情報シート'!J53","v":0},{"$nulls":3},{"$f":"'１．基本情報シート'!N53","v":0},{"$nulls":9},{"$f":"'１．基本情報シート'!X53","v":0},{"$nulls":9},"介護保険負担割合",{"$nulls":3},{"$f":"'１．基本情報シート'!AL53","v":0},null,null,"生活保護",{"$nulls":3},{"$f":"'１．基本情報シート'!AS53","v":0},null,null,"障害福祉サービス等",{"$nulls":3},{"$f":"'１．基本情報シート'!AZ53","v":0},null,null,"身体障害者手帳",{"$nulls":3},{"$f":"'１．基本情報シート'!BG53","v":0}]
[{"$nulls":33},"介護保険限度額認定証",{"$nulls":3},{"$f":"'１．基本情報シート'!AL54","v":0},null,null,"医療保険負担割合",{"$nulls":3},{"$f":"'１．基本情報シート'!AS54","v":0},null,null,"日常生活自立支援事業",{"$nulls":3},{"$f":"'１．基本情報シート'!AZ54","v":0},null,null,"成年後見制度",{"$nulls":3},{"$f":"'１．基本情報シート'!BG54","v":0}]
[null,"今までの生活","生活歴",null,"（これまでの職歴、家庭生活、習慣など）",{"$nulls":13},"趣味・好きなこと",{"$nulls":14},"特記",{"$f":"'１．基本情報シート'!AI55","v":0}]
[null,null,{"$f":"'１．基本情報シート'!C56","v":0},{"$nulls":15},{"$f":"'１．基本情報シート'!S56","v":0}]
[]
[]
[]
[{"$nulls":32},"利用しているサービス","サービス内容",{"$nulls":9},"頻度",null,null,"事業所・ボランティア団体等",{"$nulls":7},"特記　（ＴＥＬ・ＦＡＸ等）"]
[{"$nulls":18},"日中の活動性",{"$nulls":3},{"$f":"'１．基本情報シート'!W61","v":0},{"$nulls":10},"フォーマル",{"$f":"'１．基本情報シート'!AI61","v":0},{"$nulls":8},{"$f":"'１．基本情報シート'!AR61","v":0},{"$f":"'１．基本情報シート'!AS61","v":0},null,{"$f":"'１．基本情報シート'!AU61","v":0},{"$nulls":7},{"$f":"'１．基本情報シート'!BC61","v":0}]
[{"$nulls":18},"外出の頻度",{"$nulls":3},{"$f":"'１．基本情報シート'!W62","v":0},{"$nulls":11},{"$f":"'１．基本情報シート'!AI62","v":0},{"$nulls":8},{"$f":"'１．基本情報シート'!AR62","v":0},{"$f":"'１．基本情報シート'!AS62","v":0},null,{"$f":"'１．基本情報シート'!AU62","v":0},{"$nulls":7},{"$f":"'１．基本情報シート'!BC62","v":0}]
[null,"現在の生活状況","１日の過ごし方",{"$nulls":15},"（起床・食事・日中の過ごし方・入浴・就寝など）",{"$nulls":15},{"$f":"'１．基本情報シート'!AI63","v":0},{"$nulls":8},{"$f":"'１．基本情報シート'!AR63","v":0},{"$f":"'１．基本情報シート'!AS63","v":0},null,{"$f":"'１．基本情報シート'!AU63","v":0},{"$nulls":7},{"$f":"'１．基本情報シート'!BC63","v":0}]
[null,null,{"$f":"'１．基本情報シート'!C64","v":0},{"$nulls":15},"時間",{"$nulls":3},"本人",{"$nulls":3},"介護者・家族",{"$nulls":7},{"$f":"'１．基本情報シート'!AI64","v":0},{"$nulls":8},{"$f":"'１．基本情報シート'!AR64","v":0},{"$f":"'１．基本情報シート'!AS64","v":0},null,{"$f":"'１．基本情報シート'!AU64","v":0},{"$nulls":7},{"$f":"'１．基本情報シート'!BC64","v":0}]
[{"$nulls":18},{"$f":"'１．基本情報シート'!S65","v":{"v":0,"d":"00  :  00"}},{"$nulls":3},{"$f":"'１．基本情報シート'!W65","v":0},{"$nulls":3},{"$f":"'１．基本情報シート'!AA65","v":0},{"$nulls":7},{"$f":"'１．基本情報シート'!AI65","v":0},{"$nulls":8},{"$f":"'１．基本情報シート'!AR65","v":0},{"$f":"'１．基本情報シート'!AS65","v":0},null,{"$f":"'１．基本情報シート'!AU65","v":0},{"$nulls":7},{"$f":"'１．基本情報シート'!BC65","v":0}]
[{"$nulls":18},{"$f":"'１．基本情報シート'!S66","v":{"v":0,"d":"00  :  00"}},{"$nulls":3},{"$f":"'１．基本情報シート'!W66","v":0},{"$nulls":3},{"$f":"'１．基本情報シート'!AA66","v":0},{"$nulls":6},"インフォーマル",{"$f":"'１．基本情報シート'!AI66","v":0},{"$nulls":8},{"$f":"'１．基本情報シート'!AR66","v":0},{"$f":"'１．基本情報シート'!AS66","v":0},null,{"$f":"'１．基本情報シート'!AU66","v":0},{"$nulls":7},{"$f":"'１．基本情報シート'!BC66","v":0}]
[{"$nulls":18},{"$f":"'１．基本情報シート'!S67","v":{"v":0,"d":"00  :  00"}},{"$nulls":3},{"$f":"'１．基本情報シート'!W67","v":0},{"$nulls":3},{"$f":"'１．基本情報シート'!AA67","v":0},{"$nulls":7},{"$f":"'１．基本情報シート'!AI67","v":0},{"$nulls":8},{"$f":"'１．基本情報シート'!AR67","v":0},{"$f":"'１．基本情報シート'!AS67","v":0},null,{"$f":"'１．基本情報シート'!AU67","v":0},{"$nulls":7},{"$f":"'１．基本情報シート'!BC67","v":0}]
[{"$nulls":18},{"$f":"'１．基本情報シート'!S68","v":{"v":0,"d":"00  :  00"}},{"$nulls":3},{"$f":"'１．基本情報シート'!W68","v":0},{"$nulls":3},{"$f":"'１．基本情報シート'!AA68","v":0},{"$nulls":7},{"$f":"'１．基本情報シート'!AI68","v":0},{"$nulls":8},{"$f":"'１．基本情報シート'!AR68","v":0},{"$f":"'１．基本情報シート'!AS68","v":0},null,{"$f":"'１．基本情報シート'!AU68","v":0},{"$nulls":7},{"$f":"'１．基本情報シート'!BC68","v":0}]
[{"$nulls":18},{"$f":"'１．基本情報シート'!S69","v":{"v":0,"d":"00  :  00"}},{"$nulls":3},{"$f":"'１．基本情報シート'!W69","v":0},{"$nulls":3},{"$f":"'１．基本情報シート'!AA69","v":0},{"$nulls":7},{"$f":"'１．基本情報シート'!AI69","v":0},{"$nulls":8},{"$f":"'１．基本情報シート'!AR69","v":0},{"$f":"'１．基本情報シート'!AS69","v":0},null,{"$f":"'１．基本情報シート'!AU69","v":0},{"$nulls":7},{"$f":"'１．基本情報シート'!BC69","v":0}]
[{"$nulls":18},{"$f":"'１．基本情報シート'!S70","v":{"v":0,"d":"00  :  00"}},{"$nulls":3},{"$f":"'１．基本情報シート'!W70","v":0},{"$nulls":3},{"$f":"'１．基本情報シート'!AA70","v":0},{"$nulls":7},{"$f":"'１．基本情報シート'!AI70","v":0},{"$nulls":8},{"$f":"'１．基本情報シート'!AR70","v":0},{"$f":"'１．基本情報シート'!AS70","v":0},null,{"$f":"'１．基本情報シート'!AU70","v":0},{"$nulls":7},{"$f":"'１．基本情報シート'!BC70","v":0}]
[{"$nulls":18},{"$f":"'１．基本情報シート'!S71","v":{"v":0,"d":"00  :  00"}},{"$nulls":3},{"$f":"'１．基本情報シート'!W71","v":0},{"$nulls":3},{"$f":"'１．基本情報シート'!AA71","v":0},{"$nulls":5},"終末期における本人・家族の意向確認\nACP・リビングウイル 等",{"$nulls":9},{"$f":"'１．基本情報シート'!AQ71","v":0},null,{"$f":"'１．基本情報シート'!AS71","v":0}]
[{"$nulls":18},{"$f":"'１．基本情報シート'!S72","v":{"v":0,"d":"00  :  00"}},{"$nulls":3},{"$f":"'１．基本情報シート'!W72","v":0},{"$nulls":3},{"$f":"'１．基本情報シート'!AA72","v":0}]

{"sheet":"２．(A4版)ｱｾｽﾒﾝﾄｼｰﾄ（印刷用）","index":4,"n_rows":83,"n_cols":94,"rows_kept":83,"merged":[[1,20,1,47],[2,20,2,47],[3,20,3,47],[4,20,4,47],[7,20,7,41],[8,59,8,88],[9,0,10,12],[9,13,10,24],[9,29,9,43],[9,59,9,70],[9,71,9,88],[10,28,10,34],[10,36,10,42],[10,45,10,48],[10,49,10,57],[10,59,10,70],[10,71,10,88],[10,93,14,104],[12,0,14,9],[12,10,12,12],[12,13,12,25],[12,27,12,34],[12,36,14,43],[12,44,12,45],[12,46,12,61],[12,62,12,64],[12,65,12,88],[13,10,13,12],[13,13,13,25],[13,27,13,34],[13,44,13,45],[13,46,13,61],[13,62,13,64],[13,65,13,88],[14,10,14,12],[14,13,14,25],[14,27,14,34],[14,44,14,45],[14,46,14,61],[14,62,14,64],[14,65,14,88],[19,0,20,5],[19,6,20,10],[19,11,19,53],[19,54,19,73],[19,75,20,88],[20,11,20,17],[20,18,20,23],[20,24,20,33],[20,34,20,53],[20,54,20,63],[20,64,20,73],[21,0,36,5],[21,6,21,10],[21,11,21,12],[21,13,21,17],[21,18,21,23],[21,24,21,33],[21,34,21,53],[21,54,28,63],[21,64,28,73],[21,75,30,88],[22,6,22,10],[22,11,22,12],[22,13,22,17],[22,18,22,23],[22,24,22,25],[22,26,22,27],[22,28,22,33],[22,34,22,53],[23,6,23,10],[23,11,23,12],[23,13,23,17],[23,18,23,23],[23,24,23,33],[23,34,23,53],[24,6,24,10],[24,11,24,12],[24,13,24,17],[24,18,24,23],[24,24,24,33],[24,34,24,53],[25,6,25,10],[25,11,25,12],[25,13,25,17],[25,18,25,23],[25,24,25,33],[25,34,25,53],[26,6,26,10],[26,11,26,12],[26,13,26,17],[26,18,26,21],[26,22,26,23],[26,25,26,26],[26,27,26,28],[26,29,26,30],[26,32,26,33],[26,34,26,36],[26,37,26,38],[26,39,26,53],[27,6,27,10],[27,11,27,12],[27,13,27,17],[27,18,27,23],[27,24,27,33],[27,34,27,53],[28,6,28,10],[28,11,28,12],[28,13,28,17],[28,18,28,23],[28,24,28,33],[28,34,28,53],[29,6,29,10],[29,11,29,12],[29,13,29,17],[29,18,29,23],[29,24,29,33],[29,34,29,53],[29,54,36,63],[29,64,36,73],[30,6,30,10],[30,11,30,12],[30,13,30,17],[30,18,30,23],[30,24,30,33],[30,34,30,53],[31,6,31,10],[31,11,31,12],[31,13,31,17],[31,18,31,23],[31,24,31,33],[31,34,31,53],[31,75,40,88],[32,6,32,10],[32,11,32,12],[32,13,32,17],[32,18,32,23],[32,24,32,33],[32,34,32,53],[33,6,33,10],[33,11,34,12],[33,13,34,17],[33,18,33,23],[33,24,33,33],[33,34,33,53],[34,6,34,10],[34,19,34,20],[34,21,34,23],[34,27,34,28],[34,30,34,31],[34,33,34,35],[34,37,34,39],[34,41,34,43],[34,45,34,47],[34,49,34,52],[35,6,35,10],[35,11,36,12],[35,13,36,17],[35,18,35,23],[35,24,35,53],[36,6,36,10],[36,18,36,23],[36,26,36,27],[36,29,36,30],[36,32,36,34],[36,36,36,38],[36,40,36,42],[36,44,36,46],[36,48,36,53],[37,0,63,5],[37,6,37,10],[37,11,37,12],[37,13,37,17],[37,18,37,23],[37,24,37,33],[37,34,37,53],[37,54,45,63],[37,64,45,73],[38,6,38,10],[38,11,38,12],[38,13,38,17],[38,18,38,23],[38,24,38,33],[38,34,38,53],[39,6,39,10],[39,11,39,12],[39,13,39,17],[39,18,39,23],[39,24,39,33],[39,34,39,53],[40,6,40,10],[40,11,40,12],[40,13,40,17],[40,18,40,23],[40,24,40,33],[40,34,40,53],[41,6,41,10],[41,11,41,12],[41,13,41,17],[41,18,41,23],[41,24,41,33],[41,34,41,53],[41,75,50,88],[42,6,42,10],[42,11,42,12],[42,13,42,17],[42,18,42,23],[42,24,42,27],[42,28,42,30],[42,31,42,34],[42,35,42,53],[43,6,43,10],[43,11,43,12],[43,13,43,17],[43,18,43,23],[43,24,43,33],[43,34,43,53],[44,6,44,10],[44,11,44,12],[44,13,44,17],[44,18,44,23],[44,24,44,33],[44,34,44,53],[45,6,45,10],[45,11,45,12],[45,13,45,17],[45,18,45,23],[45,24,45,33],[45,34,45,53],[46,6,46,10],[46,11,46,12],[46,13,46,17],[46,18,46,23],[46,24,46,25],[46,26,46,29],[46,30,46,33],[46,34,46,53],[46,54,54,63],[46,64,54,73],[47,6,47,10],[47,11,47,12],[47,13,47,17],[47,18,47,23],[47,24,47,33],[47,34,47,53],[48,6,48,10],[48,11,48,12],[48,13,48,17],[48,18,48,23],[48,24,48,33],[48,34,48,53],[49,6,49,10],[49,11,49,12],[49,13,49,17],[49,18,49,23],[49,24,49,33],[49,34,49,53],[50,6,50,10],[50,11,50,12],[50,13,50,17],[50,18,50,23],[50,24,50,33],[50,34,50,53],[51,6,51,10],[51,11,51,12],[51,13,51,17],[51,18,51,23],[51,24,51,33],[51,34,51,53],[51,75,59,88],[52,6,52,10],[52,11,52,12],[52,13,52,17],[52,18,52,23],[52,24,52,33],[52,34,52,53],[53,6,53,10],[53,11,53,12],[53,13,53,17],[53,18,53,23],[53,24,53,33],[53,34,53,53],[54,6,54,10],[54,11,54,12],[54,13,54,17],[54,18,54,23],[54,24,54,33],[54,34,54,53],[55,6,55,10],[55,11,55,12],[55,13,55,17],[55,18,55,23],[55,24,55,33],[55,34,55,53],[55,54,63,63],[55,64,63,73],[56,6,56,10],[56,11,56,12],[56,13,56,17],[56,18,56,23],[56,24,56,33],[56,34,56,53],[57,6,57,10],[57,11,57,12],[57,13,57,17],[57,18,57,23],[57,24,57,33],[57,34,57,53],[58,6,58,10],[58,11,58,12],[58,13,58,17],[58,18,58,23],[58,24,58,33],[58,34,58,53],[59,6,59,10],[59,11,59,12],[59,13,59,17],[59,18,59,23],[59,24,59,33],[59,34,59,53],[60,6,60,10],[60,11,60,12],[60,13,60,17],[60,18,60,23],[60,24,60,33],[60,34,60,53],[60,75,67,88],[61,6,61,10],[61,11,61,12],[61,13,61,17],[61,18,61,23],[61,24,61,33],[61,34,61,53],[62,6,62,10],[62,11,62,12],[62,13,62,17],[62,18,62,23],[62,24,62,33],[62,34,62,53],[63,6,63,10],[63,11,63,12],[63,13,63,17],[63,18,63,23],[63,24,63,33],[63,34,63,53],[64,0,67,5],[64,6,64,10],[64,11,64,12],[64,13,64,17],[64,18,64,23],[64,24,64,33],[64,34,64,53],[64,54,67,63],[64,64,67,73],[65,6,65,10],[65,11,65,12],[65,13,65,17],[65,18,65,23],[65,24,65,33],[65,34,65,53],[66,6,66,10],[66,11,66,12],[66,13,66,17],[66,18,66,23],[66,24,66,33],[66,34,66,53],[67,6,67,10],[67,11,67,12],[67,13,67,17],[67,18,67,23],[67,24,67,33],[67,34,67,53],[68,0,72,5],[68,6,68,10],[68,11,68,12],[68,13,68,17],[68,18,68,23],[68,24,68,33],[68,34,68,53],[68,54,72,63],[68,64,72,73],[68,75,75,88],[69,6,69,10],[69,11,69,12],[69,13,69,17],[69,18,69,23],[69,24,69,33],[69,34,69,53],[70,6,70,10],[70,11,70,12],[70,13,70,17],[70,18,70,23],[70,24,70,33],[70,34,70,53],[71,6,71,10],[71,11,71,12],[71,13,71,17],[71,18,71,23],[71,24,71,33],[71,34,71,53],[72,6,72,10],[72,11,72,12],[72,13,72,17],[72,18,72,23],[72,24,72,33],[72,34,72,53],[73,0,75,5],[73,6,73,10],[73,11,73,12],[73,13,73,14],[73,15,73,19],[73,20,73,21],[73,22,73,24],[73,26,73,29],[73,31,73,35],[73,37,73,39],[73,41,73,43],[73,45,73,52],[73,54,75,63],[73,64,75,73],[74,6,75,10],[74,11,75,12],[74,13,75,53],[76,0,76,88],[77,0,77,5],[77,6,77,39],[77,40,77,88],[78,0,82,5],[78,6,78,8],[78,9,78,26],[78,27,82,27],[78,29,78,39],[78,40,78,41],[78,42,78,55],[78,56,78,58],[78,59,78,88],[79,6,79,8],[79,9,79,26],[79,29,79,39],[79,40,79,41],[79,42,79,55],[79,56,79,58],[79,59,79,88],[80,6,80,8],[80,9,80,26],[80,29,80,39],[80,40,80,41],[80,42,80,55],[80,56,80,58],[80,59,80,88],[81,6,81,8],[81,9,81,26],[81,29,81,39],[81,40,81,41],[81,42,81,55],[81,56,81,58],[81,59,81,88],[82,6,82,8],[82,9,82,26],[82,29,82,39],[82,40,82,41],[82,42,82,55],[82,56,82,58],[82,59,82,88],[83,8,83,37],[84,8,84,37],[85,8,85,37],[86,8,86,37],[87,8,87,37]]}
[]
[{"$nulls":20},"【※１】 画面の拡大・縮小は、右下のパーセンテージで操作できます。"]
[{"$nulls":20},"【※２】薄黄色の項目は、プルダウン式になっています。"]
[{"$nulls":20},"【※３】黄色の項目は課題整理総括表へリンクします。"]
[{"$nulls":20},"【※４】灰色のセルは記載不要（基本情報とリンクしています。）"]
[]
[]
[{"$nulls":20},"【※５】↓印刷範囲・入力項目などは、この下からです。↓"]
[{"$nulls":59},"（沖縄県 共通アセスメント様式 Ver 2.0）"]
["氏　名",{"$nulls":12},{"$f":"'２．ｱｾｽﾒﾝﾄｼｰﾄ'!N10:Y11","v":""},{"$nulls":15},"　　アセスメントシート",{"$nulls":29},"アセスメント実施日",{"$nulls":11},{"$f":"'１．基本情報シート'!J11","v":"00:00:00"}]
[{"$nulls":25},"様",null,"(",{"$f":"'１．基本情報シート'!F15","v":0},{"$nulls":6},":",{"$f":"'１．基本情報シート'!L15","v":0},{"$nulls":6},")",null,"作成者",{"$nulls":3},{"$f":"'１．基本情報シート'!W11","v":0},{"$nulls":9},"ケアプラン作成年月日(同意日)",{"$nulls":33},"※下記項目のみ入力可※\n\n・ケアプラン作成年月日"]
[]
["A\n健康状態",{"$nulls":9},"1.",null,null,{"$f":"'１．基本情報シート'!AL15","v":0},{"$nulls":12},"4.",{"$f":"'１．基本情報シート'!BD15","v":0},{"$nulls":8},"根本的な原因・課題\n自立した日常生活の阻害要因\n（心身の状態、環境等）\n※課題整理総括表にリンク",{"$nulls":7},1,null,{"$f":"'２．ｱｾｽﾒﾝﾄｼｰﾄ'!AU13:BJ13","v":0},{"$nulls":15},4,null,null,{"$f":"'２．ｱｾｽﾒﾝﾄｼｰﾄ'!BN13:CK13","v":0}]
[{"$nulls":10},"2.",null,null,{"$f":"'１．基本情報シート'!AR15","v":0},{"$nulls":12},"5.",{"$f":"'２．ｱｾｽﾒﾝﾄｼｰﾄ'!AB14:AI14","v":0},{"$nulls":16},2,null,{"$f":"'２．ｱｾｽﾒﾝﾄｼｰﾄ'!AU14:BJ14","v":0},{"$nulls":15},5,null,null,{"$f":"'２．ｱｾｽﾒﾝﾄｼｰﾄ'!BN14:CK14","v":0}]
[{"$nulls":10},"3.",null,null,{"$f":"'１．基本情報シート'!AX15","v":0},{"$nulls":12},"6.",{"$f":"'２．ｱｾｽﾒﾝﾄｼｰﾄ'!AB15:AI15","v":0},{"$nulls":16},3,null,{"$f":"'２．ｱｾｽﾒﾝﾄｼｰﾄ'!AU15:BJ15","v":0},{"$nulls":15},6,null,null,{"$f":"'２．ｱｾｽﾒﾝﾄｼｰﾄ'!BN15:CK15","v":0}]
[]
[]
[]
[]
[{"$nulls":6},"原 因",{"$nulls":4},"状況の事実（状態）",{"$nulls":42},"課題・ストレングス",{"$nulls":20},"見通し"]
[{"$nulls":11},"項目",{"$nulls":6},"現在",{"$nulls":5},"備 考",{"$nulls":9},"できること・できそうなこと",{"$nulls":19},"課 題",{"$nulls":9},"ストレングス"]
["B心身機能・身体構造",{"$nulls":5},{"$f":"'２．ｱｾｽﾒﾝﾄｼｰﾄ'!G22:K22","v":0},{"$nulls":4},"1.",null,"視 力",{"$nulls":4},{"$f":"'２．ｱｾｽﾒﾝﾄｼｰﾄ'!S22:X22","v":0},{"$nulls":5},{"$f":"'２．ｱｾｽﾒﾝﾄｼｰﾄ'!Y22:AH22","v":0},{"$nulls":9},{"$f":"'２．ｱｾｽﾒﾝﾄｼｰﾄ'!AI22:BB22","v":0},{"$nulls":19},{"$f":"'２．ｱｾｽﾒﾝﾄｼｰﾄ'!BC22","v":0},{"$nulls":9},{"$f":"'２．ｱｾｽﾒﾝﾄｼｰﾄ'!BM22","v":0},{"$nulls":10},{"$f":"'２．ｱｾｽﾒﾝﾄｼｰﾄ'!BX22","v":0}]
[{"$nulls":6},{"$f":"'２．ｱｾｽﾒﾝﾄｼｰﾄ'!G23:K23","v":0},{"$nulls":4},"2.",null,"聴 力",{"$nulls":4},{"$f":"'２．ｱｾｽﾒﾝﾄｼｰﾄ'!S23:X23","v":0},{"$nulls":5},"(補聴器)",null,{"$f":"'２．ｱｾｽﾒﾝﾄｼｰﾄ'!AA23:AB23","v":0},null,{"$f":"'２．ｱｾｽﾒﾝﾄｼｰﾄ'!AC23:AH23","v":0},{"$nulls":5},{"$f":"'２．ｱｾｽﾒﾝﾄｼｰﾄ'!AI23:BB23","v":0}]
[{"$nulls":6},{"$f":"'２．ｱｾｽﾒﾝﾄｼｰﾄ'!G24:K24","v":0},{"$nulls":4},"3.",null,"口腔衛生",{"$nulls":4},{"$f":"'２．ｱｾｽﾒﾝﾄｼｰﾄ'!S24:X24","v":0},{"$nulls":5},{"$f":"'２．ｱｾｽﾒﾝﾄｼｰﾄ'!Y24:AH24","v":0},{"$nulls":9},{"$f":"'２．ｱｾｽﾒﾝﾄｼｰﾄ'!AI24:BB24","v":0}]
[{"$nulls":6},{"$f":"'２．ｱｾｽﾒﾝﾄｼｰﾄ'!G25:K25","v":0},{"$nulls":4},"4.",null,"排尿・排便",{"$nulls":4},{"$f":"'２．ｱｾｽﾒﾝﾄｼｰﾄ'!S25:X25","v":0},{"$nulls":5},{"$f":"'２．ｱｾｽﾒﾝﾄｼｰﾄ'!Y25:AH25","v":0},{"$nulls":9},{"$f":"'２．ｱｾｽﾒﾝﾄｼｰﾄ'!AI25:BB25","v":0}]
[{"$nulls":6},{"$f":"'２．ｱｾｽﾒﾝﾄｼｰﾄ'!G26:K26","v":0},{"$nulls":4},"5.",null,"栄養状態",{"$nulls":4},{"$f":"'２．ｱｾｽﾒﾝﾄｼｰﾄ'!S26:X26","v":0},{"$nulls":5},{"$f":"'２．ｱｾｽﾒﾝﾄｼｰﾄ'!Y26:AH26","v":0},{"$nulls":9},{"$f":"'２．ｱｾｽﾒﾝﾄｼｰﾄ'!AI26:BB26","v":0}]
[{"$nulls":6},{"$f":"'２．ｱｾｽﾒﾝﾄｼｰﾄ'!G27:K27","v":0},{"$nulls":4},"6.",null,"身 長",{"$nulls":4},{"$f":"'２．ｱｾｽﾒﾝﾄｼｰﾄ'!S27:V27","v":0},{"$nulls":3},"ｃｍ",null,"7.","体 重",null,{"$f":"'２．ｱｾｽﾒﾝﾄｼｰﾄ'!AB27:AC27","v":0},null,"ｋｇ",null,"8.","BMI",null,{"$f":"'２．ｱｾｽﾒﾝﾄｼｰﾄ'!AI27:AK27","v":""},null,null,"kg/m2",null,{"$f":"'２．ｱｾｽﾒﾝﾄｼｰﾄ'!AN27:BB27","v":0}]
[{"$nulls":6},{"$f":"'２．ｱｾｽﾒﾝﾄｼｰﾄ'!G28:K28","v":0},{"$nulls":4},"7",null,"アレルギー",{"$nulls":4},{"$f":"'２．ｱｾｽﾒﾝﾄｼｰﾄ'!S28:X28","v":0},{"$nulls":5},{"$f":"'２．ｱｾｽﾒﾝﾄｼｰﾄ'!Y28:AH28","v":0},{"$nulls":9},{"$f":"'２．ｱｾｽﾒﾝﾄｼｰﾄ'!AI28:BB28","v":0}]
[{"$nulls":6},{"$f":"'２．ｱｾｽﾒﾝﾄｼｰﾄ'!G29:K29","v":0},{"$nulls":4},"7.",null,"麻痺",{"$nulls":4},{"$f":"'２．ｱｾｽﾒﾝﾄｼｰﾄ'!S29:X29","v":0},{"$nulls":5},{"$f":"'２．ｱｾｽﾒﾝﾄｼｰﾄ'!Y29:AH29","v":0},{"$nulls":9},{"$f":"'２．ｱｾｽﾒﾝﾄｼｰﾄ'!AI29:BB29","v":0}]
[{"$nulls":6},{"$f":"'２．ｱｾｽﾒﾝﾄｼｰﾄ'!G30:K30","v":0},{"$nulls":4},"8.",null,"拘縮",{"$nulls":4},{"$f":"'２．ｱｾｽﾒﾝﾄｼｰﾄ'!S30:X30","v":0},{"$nulls":5},{"$f":"'２．ｱｾｽﾒﾝﾄｼｰﾄ'!Y30:AH30","v":0},{"$nulls":9},{"$f":"'２．ｱｾｽﾒﾝﾄｼｰﾄ'!AI30:BB30","v":0},{"$nulls":19},{"$f":"'２．ｱｾｽﾒﾝﾄｼｰﾄ'!BC30","v":0},{"$nulls":9},{"$f":"'２．ｱｾｽﾒﾝﾄｼｰﾄ'!BM30","v":0}]
[{"$nulls":11},"8",null,"痛み・痺れ",{"$nulls":4},{"$f":"'２．ｱｾｽﾒﾝﾄｼｰﾄ'!S31:X31","v":0},{"$nulls":5},{"$f":"'２．ｱｾｽﾒﾝﾄｼｰﾄ'!Y31","v":0},{"$nulls":9},{"$f":"'２．ｱｾｽﾒﾝﾄｼｰﾄ'!AI31","v":0}]
[{"$nulls":6},{"$f":"'２．ｱｾｽﾒﾝﾄｼｰﾄ'!G32:K32","v":0},{"$nulls":4},"9.",null,"褥瘡・皮膚の問題",{"$nulls":4},{"$f":"'２．ｱｾｽﾒﾝﾄｼｰﾄ'!S32:X32","v":0},{"$nulls":5},{"$f":"'２．ｱｾｽﾒﾝﾄｼｰﾄ'!Y32:AH32","v":0},{"$nulls":9},{"$f":"'２．ｱｾｽﾒﾝﾄｼｰﾄ'!AI32:BB32","v":0},{"$nulls":40},{"$f":"'２．ｱｾｽﾒﾝﾄｼｰﾄ'!BX32","v":0}]
[{"$nulls":6},{"$f":"'２．ｱｾｽﾒﾝﾄｼｰﾄ'!G33:K33","v":0},{"$nulls":4},"10.",null,"認 知",{"$nulls":4},{"$f":"'２．ｱｾｽﾒﾝﾄｼｰﾄ'!S33:X33","v":0},{"$nulls":5},{"$f":"'２．ｱｾｽﾒﾝﾄｼｰﾄ'!Y33:AH33","v":0},{"$nulls":9},{"$f":"'２．ｱｾｽﾒﾝﾄｼｰﾄ'!AI33:BB33","v":0}]
[{"$nulls":6},{"$f":"'２．ｱｾｽﾒﾝﾄｼｰﾄ'!G34:K34","v":0},{"$nulls":4},"11",null,"行動障害\n（BPSD)",{"$nulls":4},{"$f":"'２．ｱｾｽﾒﾝﾄｼｰﾄ'!S34:X34","v":0},{"$nulls":5},{"$f":"'２．ｱｾｽﾒﾝﾄｼｰﾄ'!Y34:AH34","v":0},{"$nulls":9},{"$f":"'２．ｱｾｽﾒﾝﾄｼｰﾄ'!AI34:BB34","v":0}]
[{"$nulls":6},{"$f":"'２．ｱｾｽﾒﾝﾄｼｰﾄ'!G35:K35","v":0},{"$nulls":11},"(",{"$f":"'２．ｱｾｽﾒﾝﾄｼｰﾄ'!T35:U35","v":0},null,"暴言",null,null,{"$f":"'２．ｱｾｽﾒﾝﾄｼｰﾄ'!Y35","v":0},"暴行",{"$f":"'２．ｱｾｽﾒﾝﾄｼｰﾄ'!AA35","v":0},"徘徊",null,{"$f":"'２．ｱｾｽﾒﾝﾄｼｰﾄ'!AD35","v":0},"多動",null,{"$f":"'２．ｱｾｽﾒﾝﾄｼｰﾄ'!AG35","v":0},"昼夜逆転",null,null,{"$f":"'２．ｱｾｽﾒﾝﾄｼｰﾄ'!AK35","v":0},"不潔行為",null,null,{"$f":"'２．ｱｾｽﾒﾝﾄｼｰﾄ'!AO35","v":0},"介護抵抗",null,null,{"$f":"'２．ｱｾｽﾒﾝﾄｼｰﾄ'!AS35","v":0},"夜間不穏",null,null,{"$f":"'２．ｱｾｽﾒﾝﾄｼｰﾄ'!AW35","v":0},"異食行為",{"$nulls":3},")"]
[{"$nulls":6},{"$f":"'２．ｱｾｽﾒﾝﾄｼｰﾄ'!G36:K36","v":0},{"$nulls":4},"12",null,"精神症状",{"$nulls":4},{"$f":"'２．ｱｾｽﾒﾝﾄｼｰﾄ'!S36:X36","v":0},{"$nulls":5},{"$f":"'２．ｱｾｽﾒﾝﾄｼｰﾄ'!Y36:BB36","v":0}]
[{"$nulls":6},{"$f":"'２．ｱｾｽﾒﾝﾄｼｰﾄ'!G37:K37","v":0},{"$nulls":11},{"$f":"'２．ｱｾｽﾒﾝﾄｼｰﾄ'!S37:X37","v":"("},{"$nulls":5},"(",{"$f":"'２．ｱｾｽﾒﾝﾄｼｰﾄ'!T37","v":0},"妄想",null,{"$f":"'２．ｱｾｽﾒﾝﾄｼｰﾄ'!Y37","v":0},"幻覚",null,{"$f":"'２．ｱｾｽﾒﾝﾄｼｰﾄ'!AB37","v":0},"せん妄",null,null,{"$f":"'２．ｱｾｽﾒﾝﾄｼｰﾄ'!AF37","v":0},"依存",null,null,{"$f":"'２．ｱｾｽﾒﾝﾄｼｰﾄ'!AJ37","v":0},"見当識",null,null,{"$f":"'２．ｱｾｽﾒﾝﾄｼｰﾄ'!AN37","v":0},"無関心",null,null,")"]
["C活 動",{"$nulls":5},{"$f":"'２．ｱｾｽﾒﾝﾄｼｰﾄ'!G38:K38","v":0},{"$nulls":4},"1.",null,"移動（室内）",{"$nulls":4},{"$f":"'２．ｱｾｽﾒﾝﾄｼｰﾄ'!S38:X38","v":0},{"$nulls":5},{"$f":"'２．ｱｾｽﾒﾝﾄｼｰﾄ'!Y38:AH38","v":0},{"$nulls":9},{"$f":"'２．ｱｾｽﾒﾝﾄｼｰﾄ'!AI38:BB38","v":0},{"$nulls":19},{"$f":"'２．ｱｾｽﾒﾝﾄｼｰﾄ'!BC38","v":0},{"$nulls":9},{"$f":"'２．ｱｾｽﾒﾝﾄｼｰﾄ'!BM38","v":0}]
[{"$nulls":6},{"$f":"'２．ｱｾｽﾒﾝﾄｼｰﾄ'!G39:K39","v":0},{"$nulls":4},"2.",null,"移動（屋外）",{"$nulls":4},{"$f":"'２．ｱｾｽﾒﾝﾄｼｰﾄ'!S39:X39","v":0},{"$nulls":5},{"$f":"'２．ｱｾｽﾒﾝﾄｼｰﾄ'!Y39:AH39","v":0},{"$nulls":9},{"$f":"'２．ｱｾｽﾒﾝﾄｼｰﾄ'!AI39:BB39","v":0}]
[{"$nulls":6},{"$f":"'２．ｱｾｽﾒﾝﾄｼｰﾄ'!G40:K40","v":0},{"$nulls":4},"3.",null,"食事内容",{"$nulls":4},{"$f":"'２．ｱｾｽﾒﾝﾄｼｰﾄ'!S40:X40","v":0},{"$nulls":5},{"$f":"'２．ｱｾｽﾒﾝﾄｼｰﾄ'!Y40:AH40","v":0},{"$nulls":9},{"$f":"'２．ｱｾｽﾒﾝﾄｼｰﾄ'!AI40:BB40","v":0}]
[{"$nulls":6},{"$f":"'２．ｱｾｽﾒﾝﾄｼｰﾄ'!G41:K41","v":0},{"$nulls":4},"4.",null,"食事摂取（動作）",{"$nulls":4},{"$f":"'２．ｱｾｽﾒﾝﾄｼｰﾄ'!S41:X41","v":0},{"$nulls":5},{"$f":"'２．ｱｾｽﾒﾝﾄｼｰﾄ'!Y41:AH41","v":0},{"$nulls":9},{"$f":"'２．ｱｾｽﾒﾝﾄｼｰﾄ'!AI41:BB41","v":0}]
[{"$nulls":6},{"$f":"'２．ｱｾｽﾒﾝﾄｼｰﾄ'!G42:K42","v":0},{"$nulls":4},"5.",null,"食事摂取（問題）",{"$nulls":4},{"$f":"'２．ｱｾｽﾒﾝﾄｼｰﾄ'!S42:X42","v":0},{"$nulls":5},{"$f":"'２．ｱｾｽﾒﾝﾄｼｰﾄ'!Y42:AH42","v":0},{"$nulls":9},{"$f":"'２．ｱｾｽﾒﾝﾄｼｰﾄ'!AI42:BB42","v":0},{"$nulls":40},{"$f":"'２．ｱｾｽﾒﾝﾄｼｰﾄ'!BX42","v":0}]
[{"$nulls":6},{"$f":"'２．ｱｾｽﾒﾝﾄｼｰﾄ'!G43:K43","v":0},{"$nulls":4},"6.",null,"食事形態",{"$nulls":4},"（主食）",{"$nulls":5},{"$f":"'２．ｱｾｽﾒﾝﾄｼｰﾄ'!Y43:AB43","v":0},{"$nulls":3},"（副食）",null,null,{"$f":"'２．ｱｾｽﾒﾝﾄｼｰﾄ'!AF43:AI43","v":0},{"$nulls":3},{"$f":"'２．ｱｾｽﾒﾝﾄｼｰﾄ'!AJ43:BB43","v":0}]
[{"$nulls":6},{"$f":"'２．ｱｾｽﾒﾝﾄｼｰﾄ'!G44:K44","v":0},{"$nulls":4},"7.",null,"食事摂取量",{"$nulls":4},{"$f":"'２．ｱｾｽﾒﾝﾄｼｰﾄ'!S44:X44","v":0},{"$nulls":5},{"$f":"'２．ｱｾｽﾒﾝﾄｼｰﾄ'!Y44:AH44","v":0},{"$nulls":9},{"$f":"'２．ｱｾｽﾒﾝﾄｼｰﾄ'!AI44:BB44","v":0}]
[{"$nulls":6},{"$f":"'２．ｱｾｽﾒﾝﾄｼｰﾄ'!G45:K45","v":0},{"$nulls":4},"8.",null,"水分摂取",{"$nulls":4},{"$f":"'２．ｱｾｽﾒﾝﾄｼｰﾄ'!S45:X45","v":0},{"$nulls":5},{"$f":"'２．ｱｾｽﾒﾝﾄｼｰﾄ'!Y45:AH45","v":0},{"$nulls":9},{"$f":"'２．ｱｾｽﾒﾝﾄｼｰﾄ'!AI45:BB45","v":0}]
[{"$nulls":6},{"$f":"'２．ｱｾｽﾒﾝﾄｼｰﾄ'!G46:K46","v":0},{"$nulls":4},"9.",null,"排泄動作",{"$nulls":4},{"$f":"'２．ｱｾｽﾒﾝﾄｼｰﾄ'!S46:X46","v":0},{"$nulls":5},{"$f":"'２．ｱｾｽﾒﾝﾄｼｰﾄ'!Y46:AH46","v":0},{"$nulls":9},{"$f":"'２．ｱｾｽﾒﾝﾄｼｰﾄ'!AI46:BB46","v":0}]
[{"$nulls":6},{"$f":"'２．ｱｾｽﾒﾝﾄｼｰﾄ'!G47:K47","v":0},{"$nulls":4},"10.",null,"口腔ケア",{"$nulls":4},{"$f":"'２．ｱｾｽﾒﾝﾄｼｰﾄ'!S47:X47","v":0},{"$nulls":5},"(義歯)",null,{"$f":"'２．ｱｾｽﾒﾝﾄｼｰﾄ'!AA47:AD47","v":0},{"$nulls":3},{"$f":"'２．ｱｾｽﾒﾝﾄｼｰﾄ'!AE47:AH47","v":0},{"$nulls":3},{"$f":"'２．ｱｾｽﾒﾝﾄｼｰﾄ'!AI47:BB47","v":0},{"$nulls":19},{"$f":"'２．ｱｾｽﾒﾝﾄｼｰﾄ'!BC47","v":0},{"$nulls":9},{"$f":"'２．ｱｾｽﾒﾝﾄｼｰﾄ'!BM47","v":0}]
[{"$nulls":6},{"$f":"'２．ｱｾｽﾒﾝﾄｼｰﾄ'!G48:K48","v":0},{"$nulls":4},"11.",null,"入 浴",{"$nulls":4},{"$f":"'２．ｱｾｽﾒﾝﾄｼｰﾄ'!S48:X48","v":0},{"$nulls":5},{"$f":"'２．ｱｾｽﾒﾝﾄｼｰﾄ'!Y48:AH48","v":0},{"$nulls":9},{"$f":"'２．ｱｾｽﾒﾝﾄｼｰﾄ'!AI48:BB48","v":0}]
[{"$nulls":6},{"$f":"'２．ｱｾｽﾒﾝﾄｼｰﾄ'!G49:K49","v":0},{"$nulls":4},"12.",null,"更 衣",{"$nulls":4},{"$f":"'２．ｱｾｽﾒﾝﾄｼｰﾄ'!S49:X49","v":0},{"$nulls":5},{"$f":"'２．ｱｾｽﾒﾝﾄｼｰﾄ'!Y49:AH49","v":0},{"$nulls":9},{"$f":"'２．ｱｾｽﾒﾝﾄｼｰﾄ'!AI49:BB49","v":0}]
[{"$nulls":6},{"$f":"'２．ｱｾｽﾒﾝﾄｼｰﾄ'!G50:K50","v":0},{"$nulls":4},"13.",null,"整 容",{"$nulls":4},{"$f":"'２．ｱｾｽﾒﾝﾄｼｰﾄ'!S50:X50","v":0},{"$nulls":5},{"$f":"'２．ｱｾｽﾒﾝﾄｼｰﾄ'!Y50:AH50","v":0},{"$nulls":9},{"$f":"'２．ｱｾｽﾒﾝﾄｼｰﾄ'!AI50:BB50","v":0}]
[{"$nulls":6},{"$f":"'２．ｱｾｽﾒﾝﾄｼｰﾄ'!G51:K51","v":0},{"$nulls":4},"14.",null,"寝 返 り",{"$nulls":4},{"$f":"'２．ｱｾｽﾒﾝﾄｼｰﾄ'!S51:X51","v":0},{"$nulls":5},{"$f":"'２．ｱｾｽﾒﾝﾄｼｰﾄ'!Y51:AH51","v":0},{"$nulls":9},{"$f":"'２．ｱｾｽﾒﾝﾄｼｰﾄ'!AI51:BB51","v":0}]
[{"$nulls":6},{"$f":"'２．ｱｾｽﾒﾝﾄｼｰﾄ'!G52:K52","v":0},{"$nulls":4},"15.",null,"起き上がり",{"$nulls":4},{"$f":"'２．ｱｾｽﾒﾝﾄｼｰﾄ'!S52:X52","v":0},{"$nulls":5},{"$f":"'２．ｱｾｽﾒﾝﾄｼｰﾄ'!Y52:AH52","v":0},{"$nulls":9},{"$f":"'２．ｱｾｽﾒﾝﾄｼｰﾄ'!AI52:BB52","v":0},{"$nulls":40},{"$f":"'２．ｱｾｽﾒﾝﾄｼｰﾄ'!BX52","v":0}]
[{"$nulls":6},{"$f":"'２．ｱｾｽﾒﾝﾄｼｰﾄ'!G53:K53","v":0},{"$nulls":4},"16.",null,"移 乗",{"$nulls":4},{"$f":"'２．ｱｾｽﾒﾝﾄｼｰﾄ'!S53:X53","v":0},{"$nulls":5},{"$f":"'２．ｱｾｽﾒﾝﾄｼｰﾄ'!Y53:AH53","v":0},{"$nulls":9},{"$f":"'２．ｱｾｽﾒﾝﾄｼｰﾄ'!AI53:BB53","v":0}]
[{"$nulls":6},{"$f":"'２．ｱｾｽﾒﾝﾄｼｰﾄ'!G54:K54","v":0},{"$nulls":4},"17.",null,"服 薬",{"$nulls":4},{"$f":"'２．ｱｾｽﾒﾝﾄｼｰﾄ'!S54:X54","v":0},{"$nulls":5},{"$f":"'２．ｱｾｽﾒﾝﾄｼｰﾄ'!Y54:AH54","v":0},{"$nulls":9},{"$f":"'２．ｱｾｽﾒﾝﾄｼｰﾄ'!AI54:BB54","v":0}]
[{"$nulls":6},{"$f":"'２．ｱｾｽﾒﾝﾄｼｰﾄ'!G55:K55","v":0},{"$nulls":4},"18.",null,"調 理\n（献立・片付含む）",{"$nulls":4},{"$f":"'２．ｱｾｽﾒﾝﾄｼｰﾄ'!S55:X55","v":0},{"$nulls":5},{"$f":"'２．ｱｾｽﾒﾝﾄｼｰﾄ'!Y55:AH55","v":0},{"$nulls":9},{"$f":"'２．ｱｾｽﾒﾝﾄｼｰﾄ'!AI55:BB55","v":0}]
[{"$nulls":6},{"$f":"'２．ｱｾｽﾒﾝﾄｼｰﾄ'!G56:K56","v":0},{"$nulls":4},"19.",null,"掃 除\n（ゴミ出し含む）",{"$nulls":4},{"$f":"'２．ｱｾｽﾒﾝﾄｼｰﾄ'!S56:X56","v":0},{"$nulls":5},{"$f":"'２．ｱｾｽﾒﾝﾄｼｰﾄ'!Y56:AH56","v":0},{"$nulls":9},{"$f":"'２．ｱｾｽﾒﾝﾄｼｰﾄ'!AI56:BB56","v":0},{"$nulls":19},{"$f":"'２．ｱｾｽﾒﾝﾄｼｰﾄ'!BC56","v":0},{"$nulls":9},{"$f":"'２．ｱｾｽﾒﾝﾄｼｰﾄ'!BM56","v":0}]
[{"$nulls":6},{"$f":"'２．ｱｾｽﾒﾝﾄｼｰﾄ'!G57:K57","v":0},{"$nulls":4},"20.",null,"洗 濯",{"$nulls":4},{"$f":"'２．ｱｾｽﾒﾝﾄｼｰﾄ'!S57:X57","v":0},{"$nulls":5},{"$f":"'２．ｱｾｽﾒﾝﾄｼｰﾄ'!Y57:AH57","v":0},{"$nulls":9},{"$f":"'２．ｱｾｽﾒﾝﾄｼｰﾄ'!AI57:BB57","v":0}]
[{"$nulls":6},{"$f":"'２．ｱｾｽﾒﾝﾄｼｰﾄ'!G58:K58","v":0},{"$nulls":4},"21.",null,"買 物",{"$nulls":4},{"$f":"'２．ｱｾｽﾒﾝﾄｼｰﾄ'!S58:X58","v":0},{"$nulls":5},{"$f":"'２．ｱｾｽﾒﾝﾄｼｰﾄ'!Y58:AH58","v":0},{"$nulls":9},{"$f":"'２．ｱｾｽﾒﾝﾄｼｰﾄ'!AI58:BB58","v":0}]
[{"$nulls":6},{"$f":"'２．ｱｾｽﾒﾝﾄｼｰﾄ'!G59:K59","v":0},{"$nulls":4},"22.",null,"整理・物品の管理",{"$nulls":4},{"$f":"'２．ｱｾｽﾒﾝﾄｼｰﾄ'!S59:X59","v":0},{"$nulls":5},{"$f":"'２．ｱｾｽﾒﾝﾄｼｰﾄ'!Y59:AH59","v":0},{"$nulls":9},{"$f":"'２．ｱｾｽﾒﾝﾄｼｰﾄ'!AI59:BB59","v":0}]
[{"$nulls":6},{"$f":"'２．ｱｾｽﾒﾝﾄｼｰﾄ'!G60:K60","v":0},{"$nulls":4},"23.",null,"金銭管理",{"$nulls":4},{"$f":"'２．ｱｾｽﾒﾝﾄｼｰﾄ'!S60:X60","v":0},{"$nulls":5},{"$f":"'２．ｱｾｽﾒﾝﾄｼｰﾄ'!Y60:AH60","v":0},{"$nulls":9},{"$f":"'２．ｱｾｽﾒﾝﾄｼｰﾄ'!AI60:BB60","v":0}]
[{"$nulls":6},{"$f":"'２．ｱｾｽﾒﾝﾄｼｰﾄ'!G61:K61","v":0},{"$nulls":4},"24.",null,"コミュニケーション能力",{"$nulls":4},{"$f":"'２．ｱｾｽﾒﾝﾄｼｰﾄ'!S61:X61","v":0},{"$nulls":5},{"$f":"'２．ｱｾｽﾒﾝﾄｼｰﾄ'!Y61:AH61","v":0},{"$nulls":9},{"$f":"'２．ｱｾｽﾒﾝﾄｼｰﾄ'!AI61:BB61","v":0},{"$nulls":40},{"$f":"'２．ｱｾｽﾒﾝﾄｼｰﾄ'!BX61","v":0}]
[{"$nulls":6},{"$f":"'２．ｱｾｽﾒﾝﾄｼｰﾄ'!G62:K62","v":0},{"$nulls":4},"25.",null,"意思伝達",{"$nulls":4},{"$f":"'２．ｱｾｽﾒﾝﾄｼｰﾄ'!S62:X62","v":0},{"$nulls":5},{"$f":"'２．ｱｾｽﾒﾝﾄｼｰﾄ'!Y62:AH62","v":0},{"$nulls":9},{"$f":"'２．ｱｾｽﾒﾝﾄｼｰﾄ'!AI62:BB62","v":0}]
[{"$nulls":6},{"$f":"'２．ｱｾｽﾒﾝﾄｼｰﾄ'!G63:K63","v":0},{"$nulls":4},"26.",null,"意思決定",{"$nulls":4},{"$f":"'２．ｱｾｽﾒﾝﾄｼｰﾄ'!S63:X63","v":0},{"$nulls":5},{"$f":"'２．ｱｾｽﾒﾝﾄｼｰﾄ'!Y63:AH63","v":0},{"$nulls":9},{"$f":"'２．ｱｾｽﾒﾝﾄｼｰﾄ'!AI63:BB63","v":0}]
[{"$nulls":6},{"$f":"'２．ｱｾｽﾒﾝﾄｼｰﾄ'!G64:K64","v":0},{"$nulls":4},"27.",null,"指示反応",{"$nulls":4},{"$f":"'２．ｱｾｽﾒﾝﾄｼｰﾄ'!S64:X64","v":0},{"$nulls":5},{"$f":"'２．ｱｾｽﾒﾝﾄｼｰﾄ'!Y64:AH64","v":0},{"$nulls":9},{"$f":"'２．ｱｾｽﾒﾝﾄｼｰﾄ'!AI64:BB64","v":0}]
["D参 加",{"$nulls":5},{"$f":"'２．ｱｾｽﾒﾝﾄｼｰﾄ'!G65:K65","v":0},{"$nulls":4},"1.",null,"社会との関わり",{"$nulls":4},{"$f":"'２．ｱｾｽﾒﾝﾄｼｰﾄ'!S65:X65","v":0},{"$nulls":5},{"$f":"'２．ｱｾｽﾒﾝﾄｼｰﾄ'!Y65:AH65","v":0},{"$nulls":9},{"$f":"'２．ｱｾｽﾒﾝﾄｼｰﾄ'!AI65:BB65","v":0},{"$nulls":19},{"$f":"'２．ｱｾｽﾒﾝﾄｼｰﾄ'!BC65","v":0},{"$nulls":9},{"$f":"'２．ｱｾｽﾒﾝﾄｼｰﾄ'!BM65","v":0}]
[{"$nulls":6},{"$f":"'２．ｱｾｽﾒﾝﾄｼｰﾄ'!G66:K66","v":0},{"$nulls":4},"2.",null,"家庭での役割",{"$nulls":4},{"$f":"'２．ｱｾｽﾒﾝﾄｼｰﾄ'!S66:X66","v":0},{"$nulls":5},{"$f":"'２．ｱｾｽﾒﾝﾄｼｰﾄ'!Y66:AH66","v":0},{"$nulls":9},{"$f":"'２．ｱｾｽﾒﾝﾄｼｰﾄ'!AI66:BB66","v":0}]
[{"$nulls":6},{"$f":"'２．ｱｾｽﾒﾝﾄｼｰﾄ'!G67:K67","v":0},{"$nulls":4},"3.",null,"地域での役割",{"$nulls":4},{"$f":"'２．ｱｾｽﾒﾝﾄｼｰﾄ'!S67:X67","v":0},{"$nulls":5},{"$f":"'２．ｱｾｽﾒﾝﾄｼｰﾄ'!Y67:AH67","v":0},{"$nulls":9},{"$f":"'２．ｱｾｽﾒﾝﾄｼｰﾄ'!AI67:BB67","v":0}]
[{"$nulls":6},{"$f":"'２．ｱｾｽﾒﾝﾄｼｰﾄ'!G68:K68","v":0},{"$nulls":4},"4.",null,"施設での役割",{"$nulls":4},{"$f":"'２．ｱｾｽﾒﾝﾄｼｰﾄ'!S68:X68","v":0},{"$nulls":5},{"$f":"'２．ｱｾｽﾒﾝﾄｼｰﾄ'!Y68:AH68","v":0},{"$nulls":9},{"$f":"'２．ｱｾｽﾒﾝﾄｼｰﾄ'!AI68:BB68","v":0}]
["Eその他",{"$nulls":5},{"$f":"'２．ｱｾｽﾒﾝﾄｼｰﾄ'!G69:K69","v":0},{"$nulls":4},"1.",null,"居住環境",{"$nulls":4},{"$f":"'２．ｱｾｽﾒﾝﾄｼｰﾄ'!S69:X69","v":0},{"$nulls":5},{"$f":"'２．ｱｾｽﾒﾝﾄｼｰﾄ'!Y69:AH69","v":0},{"$nulls":9},{"$f":"'２．ｱｾｽﾒﾝﾄｼｰﾄ'!AI69:BB69","v":0},{"$nulls":19},{"$f":"'２．ｱｾｽﾒﾝﾄｼｰﾄ'!BC69","v":0},{"$nulls":9},{"$f":"'２．ｱｾｽﾒﾝﾄｼｰﾄ'!BM69","v":0},{"$nulls":10},{"$f":"'２．ｱｾｽﾒﾝﾄｼｰﾄ'!BX69","v":0}]
[{"$nulls":6},{"$f":"'２．ｱｾｽﾒﾝﾄｼｰﾄ'!G70:K70","v":0},{"$nulls":4},"2.",null,"介 護 力",{"$nulls":4},{"$f":"'２．ｱｾｽﾒﾝﾄｼｰﾄ'!S70:X70","v":0},{"$nulls":5},{"$f":"'２．ｱｾｽﾒﾝﾄｼｰﾄ'!Y70:AH70","v":0},{"$nulls":9},{"$f":"'２．ｱｾｽﾒﾝﾄｼｰﾄ'!AI70:BB70","v":0}]
[{"$nulls":6},{"$f":"'２．ｱｾｽﾒﾝﾄｼｰﾄ'!G71:K71","v":0},{"$nulls":4},"3.",null,"家族支援の必要性",{"$nulls":4},{"$f":"'２．ｱｾｽﾒﾝﾄｼｰﾄ'!S71:X71","v":0},{"$nulls":5},{"$f":"'２．ｱｾｽﾒﾝﾄｼｰﾄ'!Y71:AH71","v":0},{"$nulls":9},{"$f":"'２．ｱｾｽﾒﾝﾄｼｰﾄ'!AI71:BB71","v":0}]
[{"$nulls":6},{"$f":"'２．ｱｾｽﾒﾝﾄｼｰﾄ'!G72:K72","v":0},{"$nulls":4},"4.",null,{"$f":"'２．ｱｾｽﾒﾝﾄｼｰﾄ'!N72:R72","v":0},{"$nulls":4},{"$f":"'２．ｱｾｽﾒﾝﾄｼｰﾄ'!S72:X72","v":0},{"$nulls":5},{"$f":"'２．ｱｾｽﾒﾝﾄｼｰﾄ'!Y72:AH72","v":0},{"$nulls":9},{"$f":"'２．ｱｾｽﾒﾝﾄｼｰﾄ'!AI72:BB72","v":0}]
[{"$nulls":11},"5."]
["F特別な状況",{"$nulls":5},{"$f":"'２．ｱｾｽﾒﾝﾄｼｰﾄ'!G74:K74","v":0},{"$nulls":4},"1.",null,{"$f":"'２．ｱｾｽﾒﾝﾄｼｰﾄ'!N74:O74","v":0},null,"日中独居",{"$nulls":4},{"$f":"'２．ｱｾｽﾒﾝﾄｼｰﾄ'!U74:V74","v":0},null,"虐待",null,null,{"$f":"'２．ｱｾｽﾒﾝﾄｼｰﾄ'!Z74","v":0},"ターミナル",{"$nulls":3},{"$f":"'２．ｱｾｽﾒﾝﾄｼｰﾄ'!AE74","v":0},"成年後見",{"$nulls":4},{"$f":"'２．ｱｾｽﾒﾝﾄｼｰﾄ'!AK74","v":0},"医療",null,null,{"$f":"'２．ｱｾｽﾒﾝﾄｼｰﾄ'!AO74","v":0},"その他",null,null,"（",{"$f":"'２．ｱｾｽﾒﾝﾄｼｰﾄ'!AT74:BA74","v":0},{"$nulls":7},"）",{"$f":"'２．ｱｾｽﾒﾝﾄｼｰﾄ'!BC74","v":0},{"$nulls":9},{"$f":"'２．ｱｾｽﾒﾝﾄｼｰﾄ'!BM74","v":0}]
[{"$nulls":6},{"$f":"'２．ｱｾｽﾒﾝﾄｼｰﾄ'!G75:K76","v":0},{"$nulls":4},"2.",null,{"$f":"'２．ｱｾｽﾒﾝﾄｼｰﾄ'!N75:BB76","v":"-"}]
[]
[]
["因子",{"$nulls":5},"　G　環境因子",{"$nulls":33},"H 個人因子"]
["a\n促\n進\n因\n子",{"$nulls":5},"1.",null,null,{"$f":"'２．ｱｾｽﾒﾝﾄｼｰﾄ'!J79:AA79","v":0},{"$nulls":17},"ｂ\n阻\n害\n因\n子","1.",{"$f":"'２．ｱｾｽﾒﾝﾄｼｰﾄ'!AD79:AN79","v":0},{"$nulls":10},"1.",null,{"$f":"'２．ｱｾｽﾒﾝﾄｼｰﾄ'!AQ79:BD79","v":0},{"$nulls":13},"6.",null,null,{"$f":"'２．ｱｾｽﾒﾝﾄｼｰﾄ'!BH79:CK79","v":0}]
[{"$nulls":6},"2.",null,null,{"$f":"'２．ｱｾｽﾒﾝﾄｼｰﾄ'!J80:AA80","v":0},{"$nulls":18},"2.",{"$f":"'２．ｱｾｽﾒﾝﾄｼｰﾄ'!AD80:AN80","v":0},{"$nulls":10},"2.",null,{"$f":"'２．ｱｾｽﾒﾝﾄｼｰﾄ'!AQ80:BD80","v":0},{"$nulls":13},"7.",null,null,{"$f":"'２．ｱｾｽﾒﾝﾄｼｰﾄ'!BH80:CK80","v":0}]
[{"$nulls":6},"3.",null,null,{"$f":"'２．ｱｾｽﾒﾝﾄｼｰﾄ'!J81:AA81","v":0},{"$nulls":18},"3.",{"$f":"'２．ｱｾｽﾒﾝﾄｼｰﾄ'!AD81:AN81","v":0},{"$nulls":10},"3.",null,{"$f":"'２．ｱｾｽﾒﾝﾄｼｰﾄ'!AQ81:BD81","v":0},{"$nulls":13},"8.",null,null,{"$f":"'２．ｱｾｽﾒﾝﾄｼｰﾄ'!BH81:CK81","v":0}]
[{"$nulls":6},"4.",null,null,{"$f":"'２．ｱｾｽﾒﾝﾄｼｰﾄ'!J82:AA82","v":0},{"$nulls":18},"4.",{"$f":"'２．ｱｾｽﾒﾝﾄｼｰﾄ'!AD82:AN82","v":0},{"$nulls":10},"4.",null,{"$f":"'２．ｱｾｽﾒﾝﾄｼｰﾄ'!AQ82:BD82","v":0},{"$nulls":13},"9.",null,null,{"$f":"'２．ｱｾｽﾒﾝﾄｼｰﾄ'!BH82:CK82","v":0}]
[{"$nulls":6},"5.",null,null,{"$f":"'２．ｱｾｽﾒﾝﾄｼｰﾄ'!J83:AA83","v":0},{"$nulls":18},"5.",{"$f":"'２．ｱｾｽﾒﾝﾄｼｰﾄ'!AD83:AN83","v":0},{"$nulls":10},"5.",null,{"$f":"'２．ｱｾｽﾒﾝﾄｼｰﾄ'!AQ83:BD83","v":0},{"$nulls":13},"10.",null,null,{"$f":"'２．ｱｾｽﾒﾝﾄｼｰﾄ'!BH83:CK83","v":0}]

{"sheet":"医療連携ｼｰﾄ","index":5,"n_rows":58,"n_cols":29,"rows_kept":58,"merged":[[0,20,1,21],[0,22,1,28],[2,0,3,7],[2,8,3,8],[2,11,2,13],[2,14,2,20],[2,21,2,22],[2,23,2,28],[3,11,3,13],[3,14,3,20],[3,21,3,22],[3,23,3,28],[5,1,5,8],[5,9,5,12],[5,13,5,20],[5,21,5,22],[5,23,5,24],[5,25,5,26],[5,27,5,28],[6,0,8,0],[6,1,6,8],[6,9,6,20],[6,21,6,22],[6,23,6,28],[7,1,7,8],[7,9,7,20],[7,21,7,22],[7,23,7,28],[8,1,8,8],[8,9,8,20],[8,21,8,22],[8,23,8,28],[9,0,12,3],[9,4,12,28],[13,0,18,3],[13,4,13,8],[13,10,13,20],[13,22,13,28],[14,4,14,8],[14,10,14,20],[14,22,18,28],[15,4,15,8],[15,10,15,20],[16,4,16,8],[16,10,16,20],[17,4,17,8],[17,10,17,20],[18,4,18,6],[18,8,18,9],[18,11,18,12],[18,14,18,17],[18,19,18,21],[19,0,20,3],[19,4,19,7],[19,8,19,11],[19,12,19,15],[19,16,19,19],[19,20,19,28],[20,4,20,6],[20,7,20,19],[20,20,21,28],[21,0,22,3],[21,4,21,10],[21,11,21,13],[21,14,21,15],[21,16,21,17],[21,18,21,19],[22,4,22,8],[22,9,22,13],[22,15,22,19],[22,20,26,28],[23,0,23,4],[23,5,23,9],[23,10,23,14],[23,15,23,19],[24,0,25,3],[24,4,24,5],[24,6,24,9],[24,11,24,13],[24,15,24,17],[24,18,24,19],[25,4,25,5],[25,6,25,9],[25,10,25,11],[25,12,25,14],[25,15,25,16],[25,17,25,19],[26,0,26,3],[26,4,26,6],[26,7,26,8],[26,9,26,11],[26,12,26,19],[27,0,27,3],[27,4,27,5],[27,6,27,8],[27,10,27,11],[27,12,27,13],[27,15,27,16],[27,17,27,18],[27,19,27,20],[27,21,27,22],[27,23,27,24],[27,25,27,26],[27,27,27,28],[28,0,30,0],[28,1,28,3],[28,4,28,6],[28,9,28,11],[28,14,28,16],[28,19,28,21],[28,24,28,26],[29,1,29,3],[29,4,29,6],[29,9,29,11],[29,14,29,16],[29,19,29,21],[29,24,29,26],[30,1,30,3],[30,4,30,28],[31,0,32,3],[31,4,31,6],[31,7,31,11],[31,12,31,14],[31,15,31,16],[31,17,31,18],[31,19,31,21],[31,22,31,23],[31,24,31,26],[31,27,31,28],[32,4,32,6],[32,7,32,28],[33,0,33,3],[33,4,33,7],[33,8,33,10],[33,11,33,14],[33,15,33,19],[33,20,33,23],[33,24,33,28],[34,0,45,3],[34,4,34,9],[34,10,34,15],[34,16,36,28],[35,4,35,9],[35,10,35,15],[36,4,36,9],[36,10,36,15],[37,4,38,9],[37,10,38,15],[37,16,37,17],[37,18,37,21],[37,22,37,23],[37,24,37,27],[38,16,38,19],[38,20,38,21],[38,22,38,25],[38,26,38,27],[39,4,40,9],[39,10,40,15],[39,16,39,17],[39,18,39,20],[39,21,39,23],[39,24,39,27],[40,16,40,17],[40,18,40,20],[40,21,40,23],[40,24,40,26],[41,4,41,9],[41,10,41,15],[41,16,41,17],[41,18,41,20],[41,21,41,24],[41,25,41,27],[42,4,42,9],[42,10,42,15],[42,16,43,28],[43,4,43,9],[43,10,43,15],[44,4,45,6],[44,7,44,9],[44,10,44,15],[44,16,45,28],[45,7,45,9],[45,10,45,15],[46,0,51,3],[46,4,46,9],[46,10,46,15],[46,16,51,28],[47,4,47,9],[47,10,47,15],[48,4,48,9],[48,10,48,15],[49,4,49,9],[49,10,49,15],[50,4,50,9],[50,10,50,15],[51,4,51,9],[51,10,51,15],[52,0,52,3],[52,4,52,28],[53,0,56,3],[53,5,53,11],[53,13,53,17],[53,18,53,28],[54,4,54,5],[54,6,54,28],[55,4,56,28],[57,0,57,28]]}
["入退院時情報共有シート　（介護支援専門員⇒医療機関）",{"$nulls":19},"作成日"]
[]
["医療機関名　担当者",{"$nulls":7},"様",null,null,"事業所名",{"$nulls":9},"電話"]
[{"$nulls":11},"担当者名",{"$nulls":9},"ＦＡＸ"]
[]
["氏名",{"$f":"'１．基本情報シート'!F19","v":0},{"$nulls":7},"生年月日",{"$nulls":3},{"$f":"'１．基本情報シート'!T18","v":"00:00:00"},{"$nulls":7},"年齢",null,{"$f":"DATEDIF(N6,W1,\"y\")","v":0},null,"性別",null,{"$f":"'１．基本情報シート'!P18","v":0}]
["緊急連絡先","氏名",{"$nulls":7},"住所",{"$nulls":11},"続柄",null,"電話番号"]
[null,{"$f":"'１．基本情報シート'!E43","v":0},{"$nulls":7},{"$f":"'１．基本情報シート'!N43","v":0},{"$nulls":11},{"$f":"'１．基本情報シート'!J43","v":0},null,{"$f":"'１．基本情報シート'!X44","v":0}]
[null,{"$f":"'１．基本情報シート'!E46","v":0},{"$nulls":7},{"$f":"'１．基本情報シート'!N46","v":0},{"$nulls":11},{"$f":"'１．基本情報シート'!J46","v":0},null,{"$f":"'１．基本情報シート'!X47","v":0}]
["必須事項※\n（事務連絡）"]
[]
[]
[]
["かかりつけ医※",{"$nulls":3},"医療機関",{"$nulls":4},"（","直接入力",{"$nulls":10},"）","本人の性格・生活状況※"]
[{"$nulls":4},"その他併診機関",{"$nulls":4},"（","直接入力",{"$nulls":10},"）"]
[{"$nulls":4},"カテーテル交換 医療機関",{"$nulls":4},"（","直接入力",{"$nulls":10},"）"]
[{"$nulls":4},"歯科",{"$nulls":4},"（","直接入力",{"$nulls":10},"）"]
[{"$nulls":4},"薬局",{"$nulls":4},"（","直接入力",{"$nulls":10},"）"]
[{"$nulls":4},"おくすり情報",{"$nulls":3},"お薬手帳",null,null,"説明書",null,null,"診療情報提供書",{"$nulls":3},"他)"]
["既往歴",{"$nulls":3},{"$f":"'１．基本情報シート'!AL15","v":0},{"$nulls":3},{"$f":"'１．基本情報シート'!AR15","v":0},{"$nulls":3},{"$f":"'１．基本情報シート'!AX15","v":0},{"$nulls":3},{"$f":"'１．基本情報シート'!BD15","v":0},{"$nulls":3},"家族構成図※"]
[{"$nulls":4},"上記以外※",{"$nulls":15},"主…主介護者　☆…KP　\n〇…女性　□…男性"]
["介護認定",{"$nulls":3},{"$f":"'１．基本情報シート'!AM11","v":0},{"$nulls":6},"負担割合",null,null,{"$f":"'１．基本情報シート'!AL53","v":0},null,"生保",null,{"$f":"'１．基本情報シート'!AS53","v":0}]
[{"$nulls":4},"認定有効期間",{"$nulls":4},{"$f":"'１．基本情報シート'!AU12","v":"00:00:00"},{"$nulls":4},"～",{"$f":"'１．基本情報シート'!AZ12","v":"00:00:00"}]
["障害日常生活自立度",{"$nulls":4},{"$f":"'１．基本情報シート'!AM14","v":0},{"$nulls":4},"認知症日常生活自立度",{"$nulls":4},{"$f":"'１．基本情報シート'!AX14","v":0}]
["障害等認定※",{"$nulls":3},"手帳",{"$nulls":6},"申請中",{"$nulls":3},"等級変更中"]
[{"$nulls":4},"身体",null,"（等級：　　　　）",{"$nulls":3},"精神",null,"（等級：　　　）",null,null,"療育",null,"（等級：　　　）"]
["体重※",{"$nulls":6},"kg",null,"　　月　　日 測定"]
["通常のバイタル※",{"$nulls":3},"体温",{"$nulls":4},"℃","血圧",{"$nulls":3},"  /",null,null,"mmHg",null,"脈拍",{"$nulls":3},"SpO2"]
["利用\n状況","介護保険",null,null,{"$f":"'１．基本情報シート'!AI61","v":0},null,null,{"$f":"'１．基本情報シート'!AR61","v":0},{"$f":"'１．基本情報シート'!AS61","v":0},{"$f":"'１．基本情報シート'!AI62","v":0},null,null,{"$f":"'１．基本情報シート'!AR62","v":0},{"$f":"'１．基本情報シート'!AS62","v":0},{"$f":"'１．基本情報シート'!AI63","v":0},null,null,{"$f":"'１．基本情報シート'!AR63","v":0},{"$f":"'１．基本情報シート'!AS63","v":0},{"$f":"'１．基本情報シート'!AI64","v":0},null,null,{"$f":"'１．基本情報シート'!AR64","v":0},{"$f":"'１．基本情報シート'!AS64","v":0},{"$f":"'１．基本情報シート'!AI65","v":0},null,null,{"$f":"'１．基本情報シート'!AR65","v":0},{"$f":"'１．基本情報シート'!AS65","v":0}]
[null,"インフォーマル",null,null,{"$f":"'１．基本情報シート'!AI66","v":0},null,null,{"$f":"'１．基本情報シート'!AR66","v":0},{"$f":"'１．基本情報シート'!AS66","v":0},{"$f":"'１．基本情報シート'!AI67","v":0},null,null,{"$f":"'１．基本情報シート'!AR67","v":0},{"$f":"'１．基本情報シート'!AS67","v":0},{"$f":"'１．基本情報シート'!AI68","v":0},null,null,{"$f":"'１．基本情報シート'!AR68","v":0},{"$f":"'１．基本情報シート'!AS68","v":0},{"$f":"'１．基本情報シート'!AI69","v":0},null,null,{"$f":"'１．基本情報シート'!AR69","v":0},{"$f":"'１．基本情報シート'!AS69","v":0},{"$f":"'１．基本情報シート'!AI70","v":0},null,null,{"$f":"'１．基本情報シート'!AR70","v":0},{"$f":"'１．基本情報シート'!AS70","v":0}]
[null,"特記事項※"]
["住環境・\n家屋状況",{"$nulls":3},"住居",null,null,{"$f":"'１．基本情報シート'!AK33","v":0},{"$nulls":4},"エレベーター",null,null,{"$f":"'１．基本情報シート'!AP34","v":0},null,"寝具",null,{"$f":"'１．基本情報シート'!AO36","v":0},null,null,"トイレ",null,{"$f":"'１．基本情報シート'!AK38","v":0}]
[{"$nulls":4},"特記事項※"]
["睡眠※",{"$nulls":7},"眠剤",{"$nulls":6},"体圧分散マット"]
["ADL",{"$nulls":3}," 起き上がり"]
[{"$nulls":4},"移動動作　屋内"]
[{"$nulls":4},"移動動作　屋外"]
[{"$nulls":4}," 排泄",{"$nulls":11},"日中（",{"$nulls":5},"）・夜間（",{"$nulls":5},"）"]
[{"$nulls":16},"1日尿回数/便　（",{"$nulls":5},"）最終排便日（",{"$nulls":5},"）"]
[{"$nulls":4}," 食事",{"$nulls":11},"主食（",{"$nulls":4},"） 治療食（",{"$nulls":6},"）"]
[{"$nulls":16},"副食（",{"$nulls":4},"） 摂取量（",{"$nulls":5},"割","）"]
[{"$nulls":4}," 口腔ケア",{"$nulls":11},"義歯（",{"$nulls":4},"） 誤嚥の危険性（",{"$nulls":6},"）"]
[{"$nulls":4},"入浴"]
[{"$nulls":4},"更衣"]
[{"$nulls":4},"内服薬",null,null,"服用"]
[{"$nulls":7},"配薬方法※"]
["IADL",{"$nulls":3}," 調理"]
[{"$nulls":4}," 掃除"]
[{"$nulls":4}," 洗濯"]
[{"$nulls":4}," 買い物"]
[{"$nulls":4}," 金銭管理"]
[{"$nulls":4}," 外出(頻度)"]
["療養上の問題※"]
["ケアマネージャー\nからの要望※",{"$nulls":4},"退院前カンファレンスの開催希望",{"$nulls":7},"情報提供のみ"]
[{"$nulls":4},"理由："]
[]
[]
["参考：沖縄県入退院支援連携デザイン事業　入退院時情報共有シート　　　"]

{"sheet":"プルダウン・素材用（入力不要）","index":6,"n_rows":64,"n_cols":49,"rows_kept":64,"hidden":true}
[null,1,2,3,4,5,6,7,8,9,10,11,12,13,14,15,16,17,18,19,20,21,22,23,24,25,26,27,28,29,30,31,32,33,34,35,36,37,38,39,40,41,42,43,44,45,46,47]
["１．基本情報シート",{"$nulls":12},12,13,14,15,16,17,18,19,20,21,22,23,24,25,26,27,28,29,30,31,32,33,34,35,36,37,38,39,40,41,42,43,44,45,46]
["項目","受付方法","続柄","アセスメント理由","実施場所","性別","家族状況（世帯）","介護者","家族情報（同居・別居）","日中の活動性","外出の頻度","認定情報","支給限度額","障害高齢者の日常生活自立度","認知症高齢者の日常生活自立度","薬の有無","受診状況","受診頻度１","受診頻度２","住居","所有形態","エレベーター","専用居室","段差（居室）","手すり（居室）","寝具（居室）","冷暖房（居室）","便器","段差（トイレ）","手すり（トイレ）","浴槽","シャワー","段差（浴室）","手すり（浴室）","住宅改修","福祉用具購入","年金種別","指定難病","療育手帳","身体障害者手帳","障害福祉サービス等の利用","介護保険負担割合","生活保護","医療保険負担割合","介護保険限度額認定証","日常生活自立支援事業","成年後見制度","終末期"]
["選択内容"]
[null,"来所","本人","初回","自宅","男","独居","○","同居","よく動いている","1日1回以上","申請中","―","Ｊ１","自立","無","通院","定期","月","戸建（平屋）","持ち家","無","無","無","無","布団","無","和式","無","無","無","無","無","無","無","無","国民年金","無","無","無","無","１割","無","１割","１段階","無","無","無","／週"]
[null,"電話","家族","更新","他","女","高齢者のみ",null,"別居","座っていることが多い","週1回以上","事業対象者","―","Ｊ２","Ⅰ","有","訪問診療","不定期","週","戸建（２階建以上）","借家","有","有","有","有","ベッド","有","洋式","有","有","有","有","有","有","有","有","厚生年金","有","有","有（１級）","有","２割","有","２割","２段階","有","有（後見）","あり→","／月"]
[null,"他","他","区分変更（改善）",null,null,"二世帯",null,null,"横になっていることが多い","月1回以上","要支援１","5万30円","Ａ１","Ⅱａ",null,"往診",null,null,"アパート",{"$nulls":5},"特殊寝台",null,"ウォシュレット",{"$nulls":8},"障害年金",null,null,"有（２級）",null,"３割",null,"３割","３段階",null,"有（保佐）",null,"毎日"]
[{"$nulls":3},"区分変更（悪化）",null,null,"他",null,null,"一日中ベッドで過ごす","月1回未満","要支援２","10万4,730円","Ａ２","Ⅱｂ",{"$nulls":4},"マンション",{"$nulls":16},"その他",null,null,"有（３級）",null,"不明",null,"不明","４段階",null,"有（補助）",null,"必要時"]
[{"$nulls":3},"退院",{"$nulls":7},"要介護１","16万6,920円","Ｂ１","Ⅲａ",{"$nulls":4},"公共住宅",{"$nulls":19},"有（４級）",{"$nulls":4},"不明"]
[{"$nulls":3},"退所",{"$nulls":7},"要介護２","19万6,160円","Ｂ２","Ⅲｂ",{"$nulls":4},"サービス付き高齢者住宅",{"$nulls":19},"有（５級）"]
[{"$nulls":3},"サービス追加",{"$nulls":7},"要介護３","26万9,310円","Ｃ１","Ⅳ",{"$nulls":4},"有料老人ホーム",{"$nulls":19},"有（６級）"]
[{"$nulls":3},"サービス変更",{"$nulls":7},"要介護４","30万8,060円","Ｃ２","Ｍ",{"$nulls":4},"他",{"$nulls":19},"有（７級）"]
[{"$nulls":11},"要介護５","36万650円"]
[]
[]
["２．アセスメントチェックシート（B）"]
["項目","視力","聴力","補聴器","口腔衛生","排尿・排便","栄養状態","アレルギー","麻痺","拘縮","痛み・痺れ","褥瘡・皮膚の問題","認 知","行動障害","精神症状"]
["選択内容"]
[null,"問題無","問題無","有","支障なし","支障なし","良い","無","無","無","無","支障なし","支障なし","支障なし","問題無"]
[null,"はっきり見えない","はっきり聞こえない","無","支障あり","支障あり","普通","有","麻痺有","拘縮有","有","支障あり","支障あり","支障あり","問題有"]
[null,"ほとんど見えない","ほとんど聞こえない",{"$nulls":3},"不良"]
[]
[]
["３．アセスメントチェックシート（Ｃ）"]
["項目","移動（室内）","移動（屋外）","食事内容","食事摂取","食事摂取 ","主食","副食","食事摂取量","水分摂取","排泄動作","口腔ケア","義歯","入浴","更衣","整容","寝返り","起き上がり","移乗","服薬","調理（献立・片付含む）","掃除（ゴミ出し含む）","洗濯","買物","整理・物品の管理","金銭管理","コミュニケーション能力","意思伝達","意思決定","指示反応"]
["選択内容"]
[null,"自立","自立","支障なし","自立","問題無","常食","普通","普通","適切","自立","自立","有","自立","自立","自立","自立","自立","自立","自立","自立","自立","自立","自立","自立","自立","支障なし","できる","できる","通じる"]
[null,"見守り","見守り","支障あり","見守り","咀嚼問題有","一口カット","一口大","多い","不適切","見守り","見守り","無","見守り","見守り","見守り","何かにつかまれば出来る","何かにつかまれば出来る","見守り","見守り","見守り","見守り","見守り","見守り","見守り","見守り","支障あり","時々できる","特別な場合以外はできる","時々通じる"]
[null,"一部介助","一部介助",null,"一部介助","嚥下障害有","あちびー","軟菜","少ない",null,"一部介助","一部介助",null,"一部介助","一部介助","一部介助","一部介助","一部介助","一部介助","一部介助","一部介助","一部介助","一部介助","一部介助","一部介助","一部介助",null,"困難","困難","通じない"]
[null,"全介助","全介助",null,"全介助","咀嚼問題・嚥下障害有","かゆ","軟菜キザミ",null,null,"全介助","全介助",null,"全介助","全介助","全介助","全介助","全介助","全介助","全介助","調理しない","全介助","全介助","全介助","全介助","全介助"]
[{"$nulls":6},"経管","超きざみ"]
[{"$nulls":6},"その他","ミキサー"]
[{"$nulls":7},"ゼリー状態"]
[]
[]
["４．アセスメントチェックシート（Ｄ・Ｅ）"]
["項目","社会との関わり","家庭での役割","地域での役割","施設での役割","居住環境","介 護 力","家族支援"]
["選択内容"]
[null,"支障なし","支障なし","支障なし","支障なし","支障なし","支障なし","必要なし"]
[null,"支障あり","支障あり","支障あり","支障あり","支障あり","支障あり","必要あり"]
[]
[]
["３．課題整理総括表"]
["項目","改善/維持の可能性 ※４"]
["選択内容"]
[null,"改善 ↗"]
[null,"維持 →"]
[null,"悪化 ↘"]
[]
[]
[]
["４．入退院時情報共有シート"]
["項目","チェック","手帳","手帳２","難病","サービス","その他","頻度","睡眠","眠剤","有無","薬剤アドヒアランス","ＡＤＬ","ＩＡＤＬ","外出の頻度"]
["選択内容"]
[null,"✔","有→","身体","無","訪問診療","配食","回/週","よく眠れている","有","有","出来る","自立","出来る","1日1回以上"]
[null,null,"無","精神",null,"訪問看護","安否確認","回/月","眠れている","無","無","不完全","見守り","不完全","週1回以上"]
[null,null,"申請中","療育",null,"訪問リハビリ","緊急通報","不定期","時々目が覚める",null,null,"出来ない","一部介助","出来ない","月1回以上"]
[null,null,"等級変更",null,null,"訪問介護","社会参加","毎日","眠れない",null,null,"家族","全介助","家族","月1回未満"]
[{"$nulls":5},"通所介護","模合",{"$nulls":4},"サービス",null,"サービス"]
[{"$nulls":5},"通所リハビリ"]
[{"$nulls":5},"短期入所"]
[{"$nulls":5},"小規模多機能"]
[]
["その他素材類"]